Workbook

Sheet REVENUE
B2: Main-Rev-id | C2: Sub-Rev-id | D2: Sub-Rev-Name | E2: Item-id
B4: Taxes | E4: 1100000
B5: 1111000 | C5: 1111001 | D5: Pay As You Earn (PAYE) Tax | E5: Taxes
B6: 1111000 | C6: 1111002 | D6: Self Employed | E6: Taxes
B7: 1111000 | C7: 1111003 | D7: Vehicle Income Tax (VIT) | E7: Taxes
B8: 1111000 | C8: 1111004 | D8: Income Tax Refund | E8: Taxes
B9: 1111000 | C9: 1111005 | D9: SSNIT 2.5 % | E9: Taxes
B10: 1111100 | C10: 1111101 | D10: Capital Gains Tax | E10: Taxes
B11: 1111100 | C11: 1111102 | D11: Capital Gains Tax Refund | E11: Taxes
B12: 1111200 | C12: 1111201 | D12: Residents Withholding Tax - Dividends | E12: Taxes
B13: 1111200 | C13: 1111202 | D13: Part Time Teachers, Lecturers, Exam Invigilators - Withholding Tax | E13: Taxes
B14: 1111200 | C14: 1111203 | D14: Endorsement Fee | E14: Taxes
B15: 1111200 | C15: 1111204 | D15: Payment for supply of goods or use of property or supply of services (Rent) | E15: Taxes
B16: 1111200 | C16: 1111205 | D16: Interest on the debt contracted for petroleum operations | E16: Taxes
... B206: 1161100 | C206: 1161101 | D206: NFSL | E206: Taxes
B207: Donor Grants & Reliefs | E207: 1300000
B208: 1321000 | C208: 1321001 | D208: NGOs | E208: Donor Grants & Reliefs
B209: 1331000 | C209: 1331001 | D209: Central Government - GOG Paid Salaries | E209: Donor Grants & Reliefs
B210: 1331000 | C210: 1331002 | D210: DACF - Assembly | E210: Donor Grants & Reliefs
B211: 1331000 | C211: 1331003 | D211: DACF - MP | E211: Donor Grants & Reliefs
B212: 1331000 | C212: 1331004 | D212: Ceded Revenue | E212: Donor Grants & Reliefs
B213: 1331000 | C213: 1331005 | D213: HIPC | E213: Donor Grants & Reliefs
B214: 1331000 | C214: 1331006 | D214: Sanitation Fund | E214: Donor Grants & Reliefs
B215: 1331000 | C215: 1331007 | D215: National Youth Employment | E215: Donor Grants & Reliefs
B216: 1331000 | C216: 1331008 | D216: Ghana School Feeding Prog./HIV AIDS, etc | E216: Donor Grants & Reliefs
B217: 1331000 | C217: 1331008 1 | D217: Urban Transport Project | E217: Donor Grants & Reliefs
B218: 1331000 | C218: 1331008 2 | D218: Disability Fund | E218: Donor Grants & Reliefs
B219: 1331000 | C219: 1331008 3 | D219: M-SHAP | E219: Donor Grants & Reliefs
B220: 1331000 | C220: 1331009 | D220: G and S (Decent. Depts) GOG | E220: Donor Grants & Reliefs
B221: 1331000 | C221: 1331010 | D221: DDF Related Recurrent transfers(cap. Build) | E221: Donor Grants & Reliefs
B222: 1331000 | C222: 1332001 | D222: DACF Direct transfers | E222: Donor Grants & Reliefs
B223: 1331000 | C223: 1332002 | D223: DACF MP Transfers Capital Dev't Projects | E223: Donor Grants & Reliefs
B224: 1331000 | C224: 1332003 | D224: Sector specific Transfers(Decent. Depts) | E224: Donor Grants & Reliefs
B225: 1331000 | C225: 1332004 | D225: DDF (Investments) | E225: Donor Grants & Reliefs
B226: 1331000 | C226: 1332005 | D226: UDG Transfer 1 | E226: Donor Grants & Reliefs
B227: 1331000 | C227: 1332006 | D227: Other Donor Funded Grants | E227: Donor Grants & Reliefs
B228: 1331000 | C228: 1332006 2 | D228: Other Donor Funded Grants (CSF) | E228: Donor Grants & Reliefs
B229: 1331000 | C229: 1332006 1 | D229: Other Donor Funded Grants (UNDP) | E229: Donor Grants & Reliefs
B230: Other Revenue | E230: 1400000
B231: 1411000 | C231: 1411001 | D231: Petroleum - Participating Interest | E231: Other Revenue
...

Sheet EXPENSE
B2: Main-exp-id | C2: Sub-Exp-id | D2: Sub-exp-name | E2: Item-Nature
B4: Compensation of Employees | E4: 2100000
B5: 2111000 | C5: 2111001 | D5: Established Post | E5: Compensation of Employees
B6: 2111100 | C6: 2111101 | D6: Daily Rated | E6: Compensation of Employees
B7: 2111100 | C7: 2111102 | D7: Monthly Paid & Casual Labour | E7: Compensation of Employees
B8: 2111100 | C8: 2111103 | D8: Probation | E8: Compensation of Employees
B9: 2111100 | C9: 2111104 | D9: Recruitment | E9: Compensation of Employees
B10: 2111100 | C10: 2111105 | D10: Secondment | E10: Compensation of Employees
B11: 2111100 | C11: 2111106 | D11: Limited Engagements | E11: Compensation of Employees
B12: 2111200 | C12: 2111201 | D12: Motorbike Allowance | E12: Compensation of Employees
B13: 2111200 | C13: 2111202 | D13: Bicycle Maintenance Allowance | E13: Compensation of Employees
B14: 2111200 | C14: 2111203 | D14: Car Maintenance Allowance | E14: Compensation of Employees
B15: 2111200 | C15: 2111204 | D15: Bereavement Allowance | E15: Compensation of Employees
B16: 2111200 | C16: 2111205 | D16: Book Subsidy | E16: Compensation of Employees
... B67: 2121300 | C67: 2121007 | D67: NHIL | E67: Compensation of Employees
B68: Use of Goods & Services | E68: 2200000
B69: 2210100 | C69: 2210101 | D69: Printed Material & Stationery | E69: Use of Goods & Services
B70: 2210100 | C70: 2210102 | D70: Office Facilities, Supplies & Accessories | E70: Use of Goods & Services
B71: 2210100 | C71: 2210103 | D71: Refreshment Items | E71: Use of Goods & Services
B72: 2210100 | C72: 2210104 | D72: Medical Supplies | E72: Use of Goods & Services
B73: 2210100 | C73: 2210105 | D73: Drugs | E73: Use of Goods & Services
B74: 2210100 | C74: 2210106 | D74: Oils and Lubricants | E74: Use of Goods & Services
B75: 2210100 | C75: 2210107 | D75: Electrical Accessories | E75: Use of Goods & Services
B76: 2210100 | C76: 2210108 | D76: Construction Material | E76: Use of Goods & Services
B77: 2210100 | C77: 2210109 | D77: Spare Parts | E77: Use of Goods & Services
B78: 2210100 | C78: 2210110 | D78: Specialised Stock | E78: Use of Goods & Services
B79: 2210100 | C79: 2210111 | D79: Other Office Materials and Consumables | E79: Use of Goods & Services
B80: 2210100 | C80: 2210112 | D80: Uniform and Protective Clothing | E80: Use of Goods & Services
... B115: 2210500 | C115: 2210505 | D115: Running Cost - Official Vehicles | E115: Use of Goods & Services
B116: 2210500 | C116: 2210505 1 | D116: Running Cost - Grader Maint. | E116: Use of Goods & Services
B117: 2210500 | C117: 2210506 | D117: Freight and Handling Charges | E117: Use of Goods & Services
B118: 2210500 | C118: 2210507 | D118: Running Cost of Presidential Aircraft | E118: Use of Goods & Services
B119: 2210500 | C119: 2210508 | D119: Running Cost of Fighting Vehicles | E119: Use of Goods & Services
B120: 2210500 | C120: 2210509 | D120: Other Travel & Transportation | E120: Use of Goods & Services
B121: 2210500 | C121: 2210510 | D121: Night Allowances | E121: Use of Goods & Services
B122: 2210500 | C122: 2210511 | D122: Local Travel Cost | E122: Use of Goods & Services
B123: 2210500 | C123: 2210512 | D123: Mileage Allowance | E123: Use of Goods & Services
B124: 2210500 | C124: 2210513 | D124: Local Hotel Accommodation | E124: Use of Goods & Services
B125: 2210500 | C125: 2210514 | D125: Foreign Travel- Per Diem | E125: Use of Goods & Services
B126: 2210500 | C126: 2210515 | D126: Foreign Travel Cost and Expenses | E126: Use of Goods & Services
...

Sheet Bal. Sheet
B2: ~ ASOKORE MAMPONG MUNICIPAL ASSEMBLY ~
B4: ANNUAL STATEMENT OF FINANCIAL POSITION FOR THE YEARS ENDED
B5: 31st DECEMBER 2013 AND 2014
D7: 2014 | F7: 2013
B8: ASSETS | C8: Notes | D8: GH¢ | F8: GH¢
B10: CURRENT ASSETS
B11: Cash and Cash Equivalents | C11: 19 | D11: ='Cash & Bank bal.'!E70+'Cash & Bank bal.'!#REF! -> #REF! | F11: ='Cash & Bank bal.'!#REF!+'Cash & Bank bal.'!G70 -> #REF!
B12: Receivables | C12: 20 | D12: =SCHEDULES!H18 -> 21567.25 | F12: =SCHEDULES!I18 -> 16260.15
B13: Prepayments | C13: 21 | D13: 0 | F13: 0
B15: TOTAL CURRENT ASSET | D15: =SUM(D11:D14) -> #REF! | F15: =SUM(F11:F14) -> #REF!
B17: NON CURRENT ASSETS
B18: Receivables | C18: 22 | D18: =SCHEDULES!H48+SCHEDULES!H78 -> 0 | F18: =SCHEDULES!I78+SCHEDULES!I48 -> 0
B19: Equity Investments | C19: 23 | D19: =SCHEDULES!H108 -> 0 | F19: =SCHEDULES!I108 -> 0
B20: Infrastructure, plant and Equipment | C20: 24 | D20: ='Rec. & Pay.'!E28 -> #REF! | F20: 0
B21: Work In-Progress | C21: 25 | D21: ='Rec. & Pay.'!E29 -> 136226.57 | F21: 0
B23: TOTAL NON-CURRENT ASSET | D23: =SUM(D18:D21) -> #REF! | F23: =SUM(F18:F21) -> 0
B25: TOTAL ASSETS | D25: =D15+D23 -> #REF! | F25: =F15+F23 -> #REF!
B27: LIABILITIES
B29: CURRENT LIABILITIES
B30: Payables | C30: 26 | D30: =SCHEDULES!H140 -> 0 | F30: =SCHEDULES!I140 -> 0
B31: Deposits and Other Trust Monies | C31: 27 | D31: =SCHEDULES!H166+SCHEDULES!H195 -> 0 | F31: =SCHEDULES!I195+SCHEDULES!I166 -> 0
B32: Short-term borrowings | C32: 28a | D32: =SCHEDULES!H226 -> 0 | F32: =SCHEDULES!I226 -> 0
B34: TOTAL CURRENT LIABILITIES | D34: =SUM(D30:D32) -> 0 | F34: =SUM(F30:F32) -> 0
B36: NON- CURRENT LIABILITIES
B37: Domestic | C37: 28b | D37: 0 | F37: 0
B38: External | C38: 29 | D38: 0 | F38: 0
B40: TOTAL NON-CURRENT LIABILITIES | D40: =SUM(D37:D38) -> 0 | F40: =SUM(F37:F38) -> 0
B42: TOTAL LIABILITIES | D42: =D34+D40 -> 0 | F42: =F34+F40 -> 0
B44: NET ASSETS | D44: =D25-D42 -> #REF! | F44: =F25-F42 -> #REF!
B46: CONTRIBUTED BY
B47: Surpluses / (Deficits) | D47: ='Inc. & Exp.'!E34 -> 2174667.3 | F47: ='Rec. & Pay.'!I33 -> #REF!
B49: Accumulated Surpluses / (Deficits) | D49: =F51 -> #REF! | F49: 325848.86
B51: NETWORTH | D51: =SUM(D47:D49) -> #REF! | F51: =SUM(F47:F49) -> #REF!
B59: (MUNICIPAL FINANCE OFFICER) | C59: (MUNICIPAL COORDINATING DIRECTOR)
D60: =D44-D51 -> #REF! | F60: =F44-F51 -> #REF!

Sheet Cash Flow.
B2: STATEMENT OF CASH FLOW FOR THE YEARS ENDED
B3: ='Bal. Sheet'!B5:F5 -> 31st DECEMBER 2013 AND 2014
F5: 2014 | H5: 2013
B6: CASH FLOW FROM OPERATING ACTIVITIES | E6: Notes | F6: GH¢ | H6: GH¢
B8: Cash Receipts From Operating Activities
B10: Grants | C10: 1300000-1399999 | E10: 7 | F10: ='Rec. & Pay.'!E15 -> 5018692.2 | H10: ='Rec. & Pay.'!I15 -> 6046976
B11: Other Revenue | C11: 1400000-1499999 | E11: 2-6+8-9 | F11: ='Rec. & Pay.'!E10+'Rec. & Pay.'!E11+'Rec. & Pay.'!E12+'Rec. & Pay.'!E13+'Rec. & Pay.'!E14+'Rec. & Pay.'!E16+'Rec. & Pay.'!E17 -> 719210.43 | H11: ='Rec. & Pay.'!I10+'Rec. & Pay.'!I11+'Rec. & Pay.'!I12+'Rec. & Pay.'!I13+'Rec. & Pay.'!I14+'Rec. & Pay.'!I16+'Rec. & Pay.'!I17 -> 520243.6
B12: =IF(F12>=0,"Increase in Other Receivables","Decrease in Other Receivables") -> Increase in Other Receivables | F12: =P94 -> 0 | H12: =Q94 -> 0
B14: Total Cash Receipts From Operating Activities | F14: =SUM(F10:F13) -> 5737902.7 | H14: =SUM(H10:H13) -> 6567219.6
B16: Cash Payments From Operating Activities
B18: Compensation of Employees | C18: 2100000-2199999 | E18: 10 | F18: ='Rec. & Pay.'!E22 -> 1631630.7 | H18: ='Rec. & Pay.'!I22 -> 777941.64
B19: Goods and Services | C19: 2200000-2299999 | E19: 11 | F19: ='Rec. & Pay.'!E23 -> 1246406.8 | H19: ='Rec. & Pay.'!I23 -> 1357404.8
B20: Interest | C20: 2400000-2499999 | E20: 13 | F20: ='Rec. & Pay.'!E24 -> 0 | H20: ='Rec. & Pay.'!I24 -> 0
B21: Grant | E21: 14 | F21: ='Rec. & Pay.'!E25 -> 0 | H21: ='Rec. & Pay.'!I25 -> 0
B22: Social Benefits | C22: 2500000-2599999 | E22: 15 | F22: ='Rec. & Pay.'!E26 -> 5125 | H22: ='Rec. & Pay.'!I26 -> 3945
B23: Other Expenses | E23: 16 | F23: ='Rec. & Pay.'!E27 -> 680072.9 | H23: ='Rec. & Pay.'!I27 -> 860354.75
B24: =IF(F24>=0,"Increase in Other Payables","Decrease in Other Payables") -> Increase in Other Payables | F24: =P87 -> 5307.1 | H24: ='Cash Flow.'!Q87 -> 0
B26: Total Cash Payments From Operating Activities | F26: =SUM(F18:F25) -> 3568542.5 | H26: =SUM(H18:H25) -> 2999646.2
B28: Net cash flow from operating activities | F28: =F14-F26 -> 2169360.2 | H28: =H14-H26 -> 3567573.4
B30: CASH FLOW FROM INVESTING ACTIVITIES
B32: Purchase/Granting of non-financial assets
B34: Non-Financial Assets | C34: 3111100-3111199 | E34: 17 | F34: ='Rec. & Pay.'!E28 -> #REF! | H34: ='Rec. & Pay.'!I28 -> #REF!
B35: Inventory | C35: 3121100-3121199 | F35: 0 | H35: 0
B36: W I P | C36: 3122200-3122299 | E36: 18 | F36: ='Rec. & Pay.'!E29 -> 136226.57 | H36: ='Rec. & Pay.'!I29 -> 0
B38: Cash outflow from investing in non-financial assets | F38: =SUM(F34:F37) -> #REF! | H38: =SUM(H34:H37) -> #REF!
B40: Sale/Recovery of non-financial assets
B42: Non-Financial Assets | C42: 3111100-3111199 | F42: 0 | H42: 0
B43: Inventory | C43: 3121100-3121199 | F43: 0 | H43: 0
B44: W I P | C44: 3122200-3122299 | F44: 0 | H44: 0
B46: Cash inflow from sale of non-financial assets | F46: =SUM(F42:F45) -> 0 | H46: =SUM(H42:H45) -> 0
B48: Net cash flow from investment in Financial assets | F48: =F46-F38 -> #REF! | H48: =H46-H38 -> #REF!
B50: CASH FLOW FROM FINANCING ACTIVITY
B52: DOMESTIC
B53: INFLOWS | C53: 4112000-4112999, 4123400-4123499 | F53: 0 | H53: 0
B54: OUTFLOWS | C54: 4112000-4112999, 4123400-4123499 | F54: 0 | H54: 0
B56: Net incurrence of domestic liability | F56: =F53-F54 -> 0 | H56: =H53-H54 -> 0
B58: FOREIGN
B59: INFLOWS | C59: 4121100-4121199, 4123100-4123199, 4123200-4123299 4123300-4123399, 4123500-4123599 | F59: 0 | H59: 0
B60: OUTFLOWS | C60: 4121100-4121199, 4123100-4123199, 4123200-4123299 4123300-4123399, 4123500-4123599 | F60: 0 | H60: 0
B62: Net incurrence of foreign liability | F62: =F59-F60 -> 0 | H62: =H59-H60 -> 0
...

Sheet Rec. & Pay.
B2: ='Bal. Sheet'!B2 -> ~ ASOKORE MAMPONG MUNICIPAL ASSEMBLY ~
B3: ANNUAL STATEMENT OF RECEIPTS AND PAYMENTS FOR THE YEARS ENDED
B4: ='Bal. Sheet'!B5 -> 31st DECEMBER 2013 AND 2014
D6: 2014 ANNUAL | E6: 2014 | F6: % OF | H6: 2013 ANNUAL | I6: 2013 | J6: % OF
D7: BUDGET | E7: CUM. ACTUAL | F7: ACTUAL | H7: BUDGET | I7: CUM. ACTUAL | J7: ACTUAL
B8: RECEIPTS | C8: NOTE | D8: GH¢ | E8: GH¢ | H8: GH¢ | I8: GH¢
B10: Rates | C10: 2 | D10: =Summarys!E43 -> 171065 | E10: =Summarys!I43 -> 170579.21 | F10: =E10/E19 -> 0.029728495 | H10: =Summarys!L41 -> 171065 | I10: =Summarys!M41 -> 125766.84 | J10: =I10/I19 -> 0.019150698
B11: Land and Concessions | C11: 3 | D11: =Summarys!E53 -> 124391.97 | E11: =Summarys!I53 -> 182943.86 | F11: =E11/E19 -> 0.031883402 | H11: =Summarys!L53 -> 56100 | I11: =Summarys!M53 -> 88073.53 | J11: =I11/I19 -> 0.013411083
B12: Fees and Fines | C12: 4 | D12: =Summarys!E56+Summarys!E57 -> 269946.31 | E12: =Summarys!I56+Summarys!I57 -> 161514.5 | F12: =E12/E19 -> 0.0281487 | H12: =Summarys!L56+Summarys!L57 -> 215040 | I12: =Summarys!M56+Summarys!M57 -> 133110.5 | J12: =I12/I19 -> 0.020268928
B13: Licenses | C13: 5 | D13: =Summarys!E55 -> 115911 | E13: =Summarys!I55 -> 138819 | F13: =E13/E19 -> 0.024193335 | H13: =Summarys!L55 -> 94411 | I13: =Summarys!M55 -> 129752 | J13: =I13/I19 -> 0.019757524
B14: Rent | C14: 6 | D14: =Summarys!E54 -> 52490 | E14: =Summarys!I54 -> 35908 | F14: =E14/E19 -> 0.0062580357 | H14: =Summarys!L54 -> 27805 | I14: =Summarys!M54 -> 10204 | J14: =I14/I19 -> 0.0015537778
B15: Grants | C15: 7 | D15: =Summarys!E49 -> 8654065.7 | E15: =Summarys!I49 -> 5018692.2 | F15: =E15/E19 -> 0.87465622 | H15: =Summarys!L47 -> 9483876.5 | I15: =Summarys!M47 -> 6046976 | J15: =I15/I19 -> 0.92078176
B16: Investment Income | C16: 8 | D16: 0 | E16: 0 | F16: =E16/E19 -> 0 | H16: 0 | I16: 0 | J16: =I16/I19 -> 0
B17: Miscellaneous | C17: 9 | D17: =Summarys!E58 -> 42080 | E17: =Summarys!I58 -> 29445.86 | F17: =E17/E19 -> 0.0051318159 | H17: =Summarys!L58 -> 42080.6 | I17: =Summarys!M58 -> 33336.73 | J17: =I17/I19 -> 0.005076232
B19: TOTAL RECEIPTS | D19: =SUM(D10:D18) -> 9429950 | E19: =SUM(E10:E18) -> 5737902.7 | F19: =SUM(F10:F18) -> 1 | H19: =SUM(H10:H18) -> 10090378 | I19: =SUM(I10:I18) -> 6567219.6 | J19: =SUM(J10:J18) -> 1
B21: PAYMENTS
B22: Compensation of Employees | C22: 10 | D22: =Summarys!E108 -> 2154514 | E22: =Summarys!I108 -> 1631630.7 | F22: =E22/E31 -> #REF! | H22: =Summarys!L72 -> 1944808.1 | I22: =Summarys!M72 -> 777941.64 | J22: =I22/I31 -> #REF!
B23: Goods and Services | C23: 11 | D23: =Summarys!E124 -> 2187037 | E23: =Summarys!I124 -> 1246406.8 | F23: =E23/E31 -> #REF! | H23: =Summarys!L73 -> 2486994 | I23: =Summarys!M73 -> 1357404.8 | J23: =I23/I31 -> #REF!
B24: Interest | C24: 13 | D24: 0 | E24: 0 | F24: =E24/E31 -> #REF! | H24: 0 | I24: 0 | J24: =I24/I31 -> #REF!
B25: Grants | C25: 14 | D25: =Summarys!E136 -> 0 | E25: =Summarys!I136 -> 0 | F25: =E25/E31 -> #REF! | H25: =Summarys!L75 -> 0 | I25: =Summarys!M75 -> 0 | J25: =I25/I31 -> #REF!
B26: Social Benefits | C26: 15 | D26: =Summarys!E143 -> 22419 | E26: =Summarys!I143 -> 5125 | F26: =E26/E31 -> #REF! | H26: =Summarys!L76 -> 5500 | I26: =Summarys!M76 -> 3945 | J26: =I26/I31 -> #REF!
B27: Other Expenses | C27: 16 | D27: =Summarys!E149 -> 1278583 | E27: =Summarys!I149 -> 680072.9 | F27: =E27/E31 -> #REF! | H27: =Summarys!L77 -> 815600 | I27: =Summarys!M77 -> 860354.75 | J27: =I27/I31 -> #REF!
B28: Non-Financial Assets | C28: 17 | D28: =Summarys!E153+Summarys!E155+Summarys!E157+Summarys!E159+Summarys!E161+Summarys!E163+Summarys!#REF! -> #REF! | E28: =Summarys!I153+Summarys!I155+Summarys!I157+Summarys!I159+Summarys!I161+Summarys!I163+Summarys!#REF! -> #REF! | F28: =E28/E31 -> #REF! | H28: =Summarys!L153+Summarys!L155+Summarys!L157+Summarys!L159+Summarys!L161+Summarys!L163+Summarys!#REF! -> #REF! | I28: =Summarys!M153+Summarys!M155+Summarys!M157+Summarys!M159+Summarys!M161+Summarys!M163+Summarys!#REF! -> #REF! | J28: =I28/I31 -> #REF!
B29: Other Payments (WIP) | C29: 18 | D29: =Summarys!E154+Summarys!E156+Summarys!E158+Summarys!E160+Summarys!E162+Summarys!E164 -> 836179 | E29: =Summarys!I154+Summarys!I156+Summarys!I158+Summarys!I160+Summarys!I162+Summarys!I164 -> 136226.57 | F29: =E29/E31 -> #REF! | H29: =Summarys!L154+Summarys!L156+Summarys!L158+Summarys!L160+Summarys!L162+Summarys!L164 -> 0 | I29: =Summarys!M154+Summarys!M156+Summarys!M158+Summarys!M160+Summarys!M162+Summarys!M164 -> 0 | J29: =I29/I31 -> #REF!
B31: TOTAL PAYMENTS | D31: =SUM(D22:D30) -> #REF! | E31: =SUM(E22:E30) -> #REF! | F31: =SUM(F22:F30) -> #REF! | H31: =SUM(H22:H30) -> #REF! | I31: =SUM(I22:I30) -> #REF! | J31: =SUM(J22:J29) -> #REF!
B33: Net Receipts/ (Payments) | D33: =D19-D31 -> #REF! | E33: =E19-E31 -> #REF! | H33: =H19-H31 -> #REF! | I33: =I19-I31 -> #REF!
B35: Cash and Bank Balance as at ….(1st JANUARY) | E35: ='Cash Flow.'!F66 -> #REF! | I35: ='Cash Flow.'!H66 -> 325848.86
B37: Cash and Bank Balance at ….(31st DECEMBER) | E37: =SUM(E33:E35) -> #REF! | I37: =SUM(I33:I35) -> #REF!

Sheet Inc. & Exp.
B2: ='Bal. Sheet'!B2 -> ~ ASOKORE MAMPONG MUNICIPAL ASSEMBLY ~
B3: STATEMENT OF REVENUE AND EXPENDITURE FOR THE YEARS ENDED
B4: ='Bal. Sheet'!B5 -> 31st DECEMBER 2013 AND 2014
D7: 2014 ANNUAL | E7: 2014 | F7: % OF | H7: 2013 ANNUAL | I7: 2013 | J7: % OF
D8: BUDGET | E8: CUM. ACTUAL | F8: ACTUAL | H8: BUDGET | I8: CUM. ACTUAL | J8: ACTUAL
B9: REVENUE | C9: NOTE | D9: GH¢ | E9: GH¢ | H9: GH¢ | I9: GH¢
B11: Rates | C11: 2 | D11: ='Rec. & Pay.'!D10 -> 171065 | E11: ='Rec. & Pay.'!E10 -> 170579.21 | F11: =E11/E20 -> 0.029728495 | H11: ='Rec. & Pay.'!H10 -> 171065 | I11: ='Rec. & Pay.'!I10 -> 125766.84 | J11: =I11/I20 -> 0.019150698
B12: Land and Concessions | C12: 3 | D12: ='Rec. & Pay.'!D11 -> 124391.97 | E12: ='Rec. & Pay.'!E11 -> 182943.86 | F12: =E12/E20 -> 0.031883402 | H12: ='Rec. & Pay.'!H11 -> 56100 | I12: ='Rec. & Pay.'!I11 -> 88073.53 | J12: =I12/I20 -> 0.013411083
B13: Fees and Fines | C13: 4 | D13: ='Rec. & Pay.'!D12 -> 269946.31 | E13: ='Rec. & Pay.'!E12 -> 161514.5 | F13: =E13/E20 -> 0.0281487 | H13: ='Rec. & Pay.'!H12 -> 215040 | I13: ='Rec. & Pay.'!I12 -> 133110.5 | J13: =I13/I20 -> 0.020268928
B14: Licenses | C14: 5 | D14: ='Rec. & Pay.'!D13 -> 115911 | E14: ='Rec. & Pay.'!E13 -> 138819 | F14: =E14/E20 -> 0.024193335 | H14: ='Rec. & Pay.'!H13 -> 94411 | I14: ='Rec. & Pay.'!I13 -> 129752 | J14: =I14/I20 -> 0.019757524
B15: Rent | C15: 6 | D15: ='Rec. & Pay.'!D14 -> 52490 | E15: ='Rec. & Pay.'!E14 -> 35908 | F15: =E15/E20 -> 0.0062580357 | H15: ='Rec. & Pay.'!H14 -> 27805 | I15: ='Rec. & Pay.'!I14 -> 10204 | J15: =I15/I20 -> 0.0015537778
B16: Grants | C16: 7 | D16: ='Rec. & Pay.'!D15 -> 8654065.7 | E16: ='Rec. & Pay.'!E15 -> 5018692.2 | F16: =E16/E20 -> 0.87465622 | H16: ='Rec. & Pay.'!H15 -> 9483876.5 | I16: ='Rec. & Pay.'!I15 -> 6046976 | J16: =I16/I20 -> 0.92078176
B17: Investment Income | C17: 8 | D17: ='Rec. & Pay.'!D16 -> 0 | E17: ='Rec. & Pay.'!E16 -> 0 | F17: =E17/E20 -> 0 | H17: ='Rec. & Pay.'!H16 -> 0 | I17: ='Rec. & Pay.'!I16 -> 0 | J17: =I17/I20 -> 0
B18: Miscellaneous | C18: 9 | D18: ='Rec. & Pay.'!D17 -> 42080 | E18: ='Rec. & Pay.'!E17 -> 29445.86 | F18: =E18/E20 -> 0.0051318159 | H18: ='Rec. & Pay.'!H17 -> 42080.6 | I18: ='Rec. & Pay.'!I17 -> 33336.73 | J18: =I18/I20 -> 0.005076232
B20: TOTAL RECEIPTS | D20: =SUM(D11:D19) -> 9429950 | E20: =SUM(E11:E18) -> 5737902.7 | F20: =SUM(F11:F19) -> 1 | H20: =SUM(H11:H19) -> 10090378 | I20: =SUM(I11:I18) -> 6567219.6 | J20: =SUM(J11:J19) -> 1
B23: EXPENDITURE
B24: Compensation of Employees | C24: 10 | D24: ='Rec. & Pay.'!D22 -> 2154514 | E24: ='Rec. & Pay.'!E22 -> 1631630.7 | F24: =E24/E32 -> 0.45790708 | H24: ='Rec. & Pay.'!H22 -> 1944808.1 | I24: ='Rec. & Pay.'!I22 -> 777941.64 | J24: =I24/I32 -> 0.25934447
B25: Goods and Services | C25: 11 | D25: ='Rec. & Pay.'!D23 -> 2187037 | E25: ='Rec. & Pay.'!E23 -> 1246406.8 | F25: =E25/E32 -> 0.34979637 | H25: ='Rec. & Pay.'!H23 -> 2486994 | I25: ='Rec. & Pay.'!I23 -> 1357404.8 | J25: =I25/I32 -> 0.45252163
B26: =Summarys!D128 -> Consumption of Fixed Capital [GFS] | C26: 12 | D26: =Summarys!E128 -> 0 | E26: =Summarys!I128 -> 0 | F26: =E26/E32 -> 0 | H26: =Summarys!L128 -> 0 | I26: =Summarys!M128 -> 0 | J26: =I26/I32 -> 0
B27: Interest | C27: 13 | D27: ='Rec. & Pay.'!D24 -> 0 | E27: 0 | F27: =E27/E32 -> 0 | H27: ='Rec. & Pay.'!H24 -> 0 | I27: ='Rec. & Pay.'!I24 -> 0 | J27: =I27/I32 -> 0
B28: Grants | C28: 14 | D28: ='Rec. & Pay.'!D25 -> 0 | E28: ='Rec. & Pay.'!E25 -> 0 | F28: =E28/E32 -> 0 | H28: ='Rec. & Pay.'!H25 -> 0 | I28: ='Rec. & Pay.'!I25 -> 0 | J28: =I28/I32 -> 0
B29: Social Benefits | C29: 15 | D29: ='Rec. & Pay.'!D26 -> 22419 | E29: ='Rec. & Pay.'!E26 -> 5125 | F29: =E29/E32 -> 0.0014382996 | H29: ='Rec. & Pay.'!H26 -> 5500 | I29: ='Rec. & Pay.'!I26 -> 3945 | J29: =I29/I32 -> 0.0013151551
B30: Other Expenses | C30: 16 | D30: ='Rec. & Pay.'!D27 -> 1278583 | E30: ='Rec. & Pay.'!E27 -> 680072.9 | F30: =E30/E32 -> 0.19085826 | H30: ='Rec. & Pay.'!H27 -> 815600 | I30: ='Rec. & Pay.'!I27 -> 860354.75 | J30: =I30/I32 -> 0.28681875
B32: TOTAL PAYMENTS | D32: =SUM(D24:D31) -> 5642553 | E32: =SUM(E24:E30) -> 3563235.4 | F32: =SUM(F24:F31) -> 1 | H32: =SUM(H24:H31) -> 5252902 | I32: =SUM(I24:I30) -> 2999646.2 | J32: =SUM(J24:J31) -> 1
B34: SURPLUS / (DEFICIT) | D34: =D20-D32 -> 3787397 | E34: =E20-E32 -> 2174667.3 | H34: =H20-H32 -> 4837476 | I34: =I20-I32 -> 3567573.4

Sheet Charts
B4: REVENUE
B5: Rates | C5: ='Rec. & Pay.'!E10 -> 170579.21
B6: Lands and Concessions | C6: ='Rec. & Pay.'!E11 -> 182943.86
B7: Fees and Fines | C7: ='Rec. & Pay.'!E12 -> 161514.5
B8: Licenses | C8: ='Rec. & Pay.'!E13 -> 138819
B9: Rent | C9: ='Rec. & Pay.'!E14 -> 35908
B10: Grants | C10: ='Rec. & Pay.'!E15 -> 5018692.2
B11: Investment Income | C11: ='Rec. & Pay.'!E16 -> 0
B12: Miscellaneous | C12: ='Rec. & Pay.'!E17 -> 29445.86
B14: TOTAL | C14: =SUM(C5:C13) -> 5737902.7
B20: EXPENDITURE
B21: Compensation of Employees | C21: ='Rec. & Pay.'!E22 -> 1631630.7
B22: Goods and Services | C22: ='Rec. & Pay.'!E23 -> 1246406.8
B23: Consumption of Fixed Capital | C23: ='Inc. & Exp.'!E26 -> 0
B24: Interest | C24: ='Rec. & Pay.'!E24 -> 0
B25: Grants | C25: ='Rec. & Pay.'!E25 -> 0
B26: Social Benefits | C26: ='Rec. & Pay.'!E26 -> 5125
B27: Other Expense | C27: ='Rec. & Pay.'!E27 -> 680072.9
B29: TOTAL | C29: =SUM(C21:C28) -> 3563235.4

Sheet Bal. Sht
B2: ~ 0215100 - KOMENDA-EDINA-EGUAFO-ABREM MUNICIPAL ASSEMBLY ~
B3: STATEMENT OF FINANCIAL POSITION AS AT
B4: 31st DECEMBER 2017
D6: 2017 | F6: 2016 | H6: 2016 Restated
B7: ASSETS | C7: Notes | D7: GH¢ | F7: GH¢ | H7: GH¢
B9: CURRENT ASSETS
B11: Cash and Cash Equivalents | C11: 19 | D11: ='Cash & Bank bal.'!E42+'Cash & Bank bal.'!E70 -> 1178936.6 | F11: ='Cash & Bank bal.'!G42+'Cash & Bank bal.'!G70 -> 1154859.8 | H11: ='Cash & Bank bal.'!G54+'Cash & Bank bal.'!G70 -> 1154859.8
B12: Receivables | C12: 20 | D12: =SCHEDULES!H18 -> 21567.25 | F12: =SCHEDULES!I18 -> 16260.15 | H12: =SCHEDULES!I18 -> 16260.15
B13: Prepayments | C13: 21 | D13: 0 | F13: 0 | H13: 0
B15: TOTAL CURRENT ASSET | D15: =SUM(D11:D14) -> 1200503.8 | F15: =SUM(F11:F14) -> 1171120 | H15: =SUM(H11:H14) -> 1171120
B17: NON CURRENT ASSETS
B19: Receivables | C19: 22 | D19: =SCHEDULES!H48+SCHEDULES!H78 -> 0 | F19: =SCHEDULES!I48+SCHEDULES!I78 -> 0 | H19: =SCHEDULES!K48+SCHEDULES!K78 -> 0
B20: Equity Investments | C20: 23 | D20: =SCHEDULES!H108 -> 0 | F20: =SCHEDULES!I108 -> 0 | H20: =SCHEDULES!K108 -> 0
B21: Infrastructure, plant and Equipment | C21: 24 | D21: 0 | F21: 0 | H21: ='Notes (2)'!H122 -> 5460595
B22: Work In-Progress | C22: 25 | D22: 0 | F22: 0 | H22: ='Notes (2)'!H129 -> 703860.93
B24: TOTAL NON-CURRENT ASSET | D24: =SUM(D19:D22) -> 0 | F24: =SUM(F19:F22) -> 0 | H24: =SUM(H19:H22) -> 6164455.9
B26: TOTAL ASSETS | D26: =D15+D24 -> 1200503.8 | F26: =F15+F24 -> 1171120 | H26: =H15+H24 -> 7335575.9
B28: LIABILITIES
B30: CURRENT LIABILITIES
B32: Payables | C32: 26 | D32: =SCHEDULES!H140 -> 0 | F32: =SCHEDULES!I140 -> 0 | H32: =SCHEDULES!K140 -> 0
B33: Deposits and Other Trust Monies | C33: 27 | D33: =SCHEDULES!H166+SCHEDULES!H195 -> 0 | F33: =SCHEDULES!I166+SCHEDULES!I195 -> 0 | H33: =SCHEDULES!K166+SCHEDULES!K195 -> 0
B34: Short-term borrowings | C34: 28a | D34: ='Cash & Bank bal.'!E50 -> 0 | F34: ='Cash & Bank bal.'!G50 -> 0 | H34: ='Cash & Bank bal.'!I50 -> 0
B36: TOTAL CURRENT LIABILITIES | D36: =SUM(D32:D34) -> 0 | F36: =SUM(F32:F34) -> 0 | H36: =SUM(H32:H34) -> 0
B38: NON- CURRENT LIABILITIES
B40: Domestic | C40: 28b | D40: 0 | F40: 0 | H40: 0
B41: External | C41: 29 | D41: 0 | F41: 0 | H41: 0
B43: TOTAL NON-CURRENT LIABILITIES | D43: =SUM(D40:D41) -> 0 | F43: =SUM(F40:F41) -> 0 | H43: =SUM(H40:H41) -> 0
B45: TOTAL LIABILITIES | D45: =D36+D43 -> 0 | F45: =F36+F43 -> 0 | H45: =H36+H43 -> 0
B47: NET ASSETS | D47: =D26-D45 -> 1200503.8 | F47: =F26-F45 -> 1171120 | H47: =H26-H45 -> 7335575.9
B50: FINANCED BY
B52: Surpluses / (Deficits) | D52: ='Re. & Pay.'!E35 -> 29383.84 | F52: ='Re. & Pay.'!J35 -> 462457.06 | H52: 3567573.4
B54: Accumulated Surpluses / (Deficits) | D54: =F56 -> 1171120 | F54: 708662.91 | H54: 3768002.5
B56: NETWORTH | D56: =SUM(D52:D54) -> 1200503.8 | F56: =SUM(F52:F54) -> 1171120 | H56: =SUM(H52:H54) -> 7335575.9
B61: ………………………………………………………… | D61: ……………………………………………………..
B62: (MUNICIPAL COORDINATING DIRECTOR) | D62: (MUNICIPAL FINANCE OFFICER)
D63: =D47-D56 -> 0 | F63: =F47-F56 -> 0

Sheet Re. & Pay.
B2: ='Bal. Sht'!B2:F2 -> ~ 0215100 - KOMENDA-EDINA-EGUAFO-ABREM MUNICIPAL ASSEMBLY ~
B3: ANNUAL COMPARATIVE STATEMENT OF REVENUE AND EXPENDITURE FOR THE YEARS ENDED
B4: ='Bal. Sht'!B4:F4 -> 31st DECEMBER 2017
D6: ='Bal. Sht'!D6 -> 2017 | I6: 2016
D7: ANNUAL | E7: CUMM. ACTUAL | G7: % OF | I7: ANNUAL | J7: CUMM. ACTUAL | L7: % OF
B8: REVENUE | C8: Notes | D8: BUDGET GH¢ | E8: GH¢ | G8: ACTUAL | I8: BUDGET GH¢ | J8: GH¢ | L8: ACTUAL
B10: Rates | C10: 2 | D10: =Summarys!E41 -> 171065 | E10: =Summarys!I41 -> 170579.21 | G10: =E10/E19 -> 0.029728495 | I10: =Summarys!L41 -> 171065 | J10: =Summarys!M41 -> 125766.84 | L10: =J10/J19 -> 0.019150698
B11: Land and Concessions | C11: 3 | D11: =Summarys!E53 -> 124391.97 | E11: =Summarys!I53 -> 182943.86 | G11: =E11/E19 -> 0.031883402 | I11: =Summarys!L53 -> 56100 | J11: =Summarys!M53 -> 88073.53 | L11: =J11/J19 -> 0.013411083
B12: Fees and Fines | C12: 4 | D12: =Summarys!E56+Summarys!E57 -> 269946.31 | E12: =Summarys!I56+Summarys!I57 -> 161514.5 | G12: =E12/E19 -> 0.0281487 | I12: =Summarys!L56+Summarys!L57 -> 215040 | J12: =Summarys!M56+Summarys!M57 -> 133110.5 | L12: =J12/J19 -> 0.020268928
B13: Licenses | C13: 5 | D13: =Summarys!E55 -> 115911 | E13: =Summarys!I55 -> 138819 | G13: =E13/E19 -> 0.024193335 | I13: =Summarys!L55 -> 94411 | J13: =Summarys!M55 -> 129752 | L13: =J13/J19 -> 0.019757524
B14: Rent | C14: 6 | D14: =Summarys!E54 -> 52490 | E14: =Summarys!I54 -> 35908 | G14: =E14/E19 -> 0.0062580357 | I14: =Summarys!L54 -> 27805 | J14: =Summarys!M54 -> 10204 | L14: =J14/J19 -> 0.0015537778
B15: Grants | C15: 7 | D15: =Summarys!E47 -> 8654065.7 | E15: =Summarys!I47 -> 5018692.2 | G15: =E15/E19 -> 0.87465622 | I15: =Summarys!L47 -> 9483876.5 | J15: =Summarys!M47 -> 6046976 | L15: =J15/J19 -> 0.92078176
B16: Investment Income | C16: 8 | D16: 0 | E16: 0 | G16: =E16/E19 -> 0 | I16: 0 | J16: 0 | L16: =J16/J19 -> 0
B17: Miscellaneous | C17: 9 | D17: =Summarys!E58 -> 42080 | E17: =Summarys!I58 -> 29445.86 | G17: =E17/E19 -> 0.0051318159 | I17: =Summarys!L58 -> 42080.6 | J17: =Summarys!M58 -> 33336.73 | L17: =J17/J19 -> 0.005076232
B19: TOTAL | D19: =SUM(D10:D18) -> 9429950 | E19: =SUM(E10:E18) -> 5737902.7 | G19: =SUM(G10:G18) -> 1 | I19: =SUM(I10:I18) -> 10090378 | J19: =SUM(J10:J18) -> 6567219.6 | L19: =SUM(L10:L18) -> 1
B22: EXPENDITURE
B24: Compensation of Employees | C24: 10 | D24: =Summarys!E108 -> 2154514 | E24: =Summarys!I108 -> 1631630.7 | G24: =E24/E33 -> 0.28582383 | I24: =Summarys!L108 -> 1944808.1 | J24: =Summarys!M108 -> 777941.64 | L24: =J24/J33 -> 0.12743192
B25: Goods and Services | C25: 11 | D25: =Summarys!E124 -> 2187037 | E25: =Summarys!I124 -> 1246406.8 | G25: =E25/E33 -> 0.21834154 | I25: =Summarys!L124 -> 2486994 | J25: =Summarys!M124 -> 1357404.8 | L25: =J25/J33 -> 0.22235177
B26: Interest | C26: 13 | D26: 0 | E26: 0 | G26: =E26/E33 -> 0 | I26: 0 | J26: 0 | L26: =J26/J33 -> 0
B27: Grants | C27: 14 | D27: =Summarys!E136 -> 0 | E27: =Summarys!I136 -> 0 | G27: =E27/E33 -> 0 | I27: =Summarys!L136 -> 0 | J27: =Summarys!M136 -> 0 | L27: =J27/J33 -> 0
B28: Social Benefits | C28: 15 | D28: =Summarys!E143 -> 22419 | E28: =Summarys!I143 -> 5125 | G28: =E28/E33 -> 0.00089778104 | I28: =Summarys!L143 -> 5500 | J28: =Summarys!M143 -> 3945 | L28: =J28/J33 -> 0.00064621678
B29: Other Expenses | C29: 16 | D29: =Summarys!E149 -> 1278583 | E29: =Summarys!I149 -> 680072.9 | G29: =E29/E33 -> 0.11913299 | I29: =Summarys!L149 -> 815600 | J29: =Summarys!M149 -> 860354.75 | L29: =J29/J33 -> 0.14093173
B30: Non-Financial Assets | C30: 17 | D30: =Summarys!E153+Summarys!E155+Summarys!E157+Summarys!E159+Summarys!E161+Summarys!E163 -> 2951218 | E30: =Summarys!I153+Summarys!I155+Summarys!I157+Summarys!I159+Summarys!I161+Summarys!I163 -> 2009056.9 | G30: =E30/E33 -> 0.35194013 | I30: =Summarys!L153+Summarys!L155+Summarys!L157+Summarys!L159+Summarys!L161+Summarys!L163 -> 4837476 | J30: =Summarys!M153+Summarys!M155+Summarys!M157+Summarys!M159+Summarys!M161+Summarys!M163 -> 3105116.4 | L30: =J30/J33 -> 0.50863836
B31: Other Payments (WIP) | C31: 18 | D31: =Summarys!E154+Summarys!E156+Summarys!E158+Summarys!E160+Summarys!E162+Summarys!E164 -> 836179 | E31: =Summarys!I154+Summarys!I156+Summarys!I158+Summarys!I160+Summarys!I162+Summarys!I164 -> 136226.57 | G31: =E31/E33 -> 0.023863733 | I31: =Summarys!L154+Summarys!L156+Summarys!L158+Summarys!L160+Summarys!L162+Summarys!L164 -> 0 | J31: =Summarys!M154+Summarys!M156+Summarys!M158+Summarys!M160+Summarys!M162+Summarys!M164 -> 0 | L31: =J31/J33 -> 0
B33: TOTAL | D33: =SUM(D24:D32) -> 9429950 | E33: =SUM(E24:E32) -> 5708518.8 | G33: =SUM(G24:G32) -> 1 | I33: =SUM(I24:I32) -> 10090378 | J33: =SUM(J24:J32) -> 6104762.5 | L33: =SUM(L24:L32) -> 1
B35: SURPLUS/(DEFICIT) | D35: =D19-D33 -> 0 | E35: =E19-E33 -> 29383.84 | I35: =I19-I33 -> 0 | J35: =J19-J33 -> 462457.06
B37: Cash and Bank Balance as at ….(Opening) | E37: =J39 -> 1154859.8 | J37: ='Cash Flow '!H68 -> 692621.06
B39: Cash and Bank Balance at ….(Closing) | E39: =SUM(E35:E38)+'Cash Flow '!F13-'Cash Flow '!F26 -> 1178936.6 | J39: =SUM(J35:J38)+'Cash Flow '!H13-'Cash Flow '!H26 -> 1154859.8

Sheet Cash Flow 
B2: ='Bal. Sht'!B2:F2 -> ~ 0215100 - KOMENDA-EDINA-EGUAFO-ABREM MUNICIPAL ASSEMBLY ~
B3: STATEMENT OF CASH FLOW FOR THE YEAR ENDED
F5: 2017 | H5: 2016
B6: CASH FLOW FROM OPERATING ACTIVITIES | E6: Notes | F6: CURRENT | H6: PREVIOUS
F7: GH¢ | H7: GH¢
B9: Cash Receipts From Operating Activities
B11: Grants | C11: 1300000-1399999 | E11: 7 | F11: ='Rev. T''bal.'!F42-'Rev. T''bal.'!F25 -> 3573276.4 | H11: ='Rev. T''bal.'!J42-'Rev. T''bal.'!J25 -> 5395202.3
B12: Other Revenue | C12: 1400000-1499999 | E12: 2,3,4,5,6,8,9 | F12: =SUM('Re. & Pay.'!E10,'Re. & Pay.'!E11,'Re. & Pay.'!E12,'Re. & Pay.'!E13,'Re. & Pay.'!E14,'Re. & Pay.'!E16,'Re. & Pay.'!E17) -> 719210.43 | H12: =SUM('Re. & Pay.'!J10,'Re. & Pay.'!J11,'Re. & Pay.'!J12,'Re. & Pay.'!J13,'Re. & Pay.'!J14,'Re. & Pay.'!J16,'Re. & Pay.'!J17) -> 520243.6
B13: Other Receivables | F13: 0 | H13: -218.3
B15: Total Cash Receipts From Operating Activities | F15: =SUM(F11:F14) -> 4292486.9 | H15: =SUM(H11:H14) -> 5915227.6
B17: Cash Payments From Operating Activities
B19: Compensation of Employees | C19: 2100000-2199999 | E19: 10 | F19: ='Exp. T''bal.'!F39-'Exp. T''bal.'!F14 -> 186214.9 | H19: ='Exp. T''bal.'!J39-'Exp. T''bal.'!J14 -> 126167.98
B20: Goods and Services | C20: 2200000-2299999 | E20: 11 | F20: ='Re. & Pay.'!E25 -> 1246406.8 | H20: ='Re. & Pay.'!J25 -> 1357404.8
B21: Consumption of Fixed Capital | E21: 12 | F21: ='Rev. & Exp.'!E26 -> 0 | H21: ='Rev. & Exp.'!K26 -> 0
B22: Interest | C22: 2400000-2499999 | E22: 13 | F22: ='Re. & Pay.'!E26 -> 0 | H22: ='Re. & Pay.'!J26 -> 0
B23: Grant | E23: 14 | F23: ='Re. & Pay.'!E27 -> 0 | H23: ='Re. & Pay.'!J27 -> 0
B24: Social Benefits | C24: 2500000-2599999 | E24: 15 | F24: ='Re. & Pay.'!E28 -> 5125 | H24: ='Re. & Pay.'!J28 -> 3945
B25: Other Expenses | E25: 16 | F25: ='Re. & Pay.'!E29 -> 680072.9 | H25: ='Re. & Pay.'!J29 -> 860354.75
B26: =IF(F26>=0,"Increase in Other Payables","Inrease in Other Receivables") -> Increase in Other Payables | E26: 20 | F26: 5307.1 | H26: 0
B28: Total Cash Payments From Operating Activities | F28: =SUM(F19:F27) -> 2123126.7 | H28: =SUM(H19:H27) -> 2347872.5
B30: Net cash flow from operating activities | F30: =F15-F28 -> 2169360.2 | H30: =H15-H28 -> 3567355.1
B32: CASH FLOW FROM INVESTING ACTIVITIES
B34: Purchase/Granting of non-financial assets
B36: Non-Financial Assets | C36: 3111100-3111199 | E36: 17 | F36: ='Re. & Pay.'!E30 -> 2009056.9 | H36: ='Re. & Pay.'!J30 -> 3105116.4
B37: Inventory | C37: 3121100-3121199 | F37: 0 | H37: 0
B38: W I P | C38: 3122200-3122299 | E38: 18 | F38: ='Re. & Pay.'!E31 -> 136226.57 | H38: ='Re. & Pay.'!J31 -> 0
B40: Cash outflow from investing in non-financial assets | F40: =SUM(F36:F39) -> 2145283.4 | H40: =SUM(H36:H39) -> 3105116.4
B42: Sale/Recovery of non-financial assets
B44: Non-Financial Assets | C44: 3111100-3111199 | F44: 0 | H44: 0
B45: Inventory | C45: 3121100-3121199 | F45: 0 | H45: 0
B46: W I P | C46: 3122200-3122299 | F46: 0 | H46: 0
B48: Cash inflow from sale of non-financial assets | F48: =SUM(F44:F47) -> 0 | H48: =SUM(H44:H47) -> 0
B50: Net cash flow from investment in Financial assets | F50: =F48-F40 -> -2145283.4 | H50: =H48-H40 -> -3105116.4
B52: CASH FLOW FROM FINANCING ACTIVITY
B54: DOMESTIC
B55: INFLOWS | C55: 4112000-4112999, 4123400-4123499 | F55: 0 | H55: 0
B56: OUTFLOWS | C56: 4112000-4112999, 4123400-4123499 | F56: 0 | H56: 0
B58: Net incurrence of domestic liability | F58: =F55-F56 -> 0 | H58: =H55-H56 -> 0
B60: FOREIGN
B61: INFLOWS | C61: 4121100-4121199, 4123100-4123199, 4123200-4123299 4123300-4123399, 4123500-4123599 | F61: 0 | H61: 0
...

Sheet Rev. & Exp.
B1: ='Bal. Sht'!B2:F2 -> ~ 0215100 - KOMENDA-EDINA-EGUAFO-ABREM MUNICIPAL ASSEMBLY ~
B2: ANNUAL COMPARATIVE STATEMENT OF REVENUE AND EXPENDITURE AS AT
B3: ='Re. & Pay.'!B4:L4 -> 31st DECEMBER 2017
D6: ='Bal. Sht'!D6 -> 2017 | J6: ='Bal. Sht'!F6 -> 2016
D7: ANNUAL | E7: CUMM. ACTUAL | G7: % OF | H7: VARIANCE | J7: ANNUAL | K7: CUMM. ACTUAL | M7: % OF | N7: VARIANCE
B8: REVENUE | C8: Notes | D8: BUDGET GH¢ | E8: GH¢ | G8: ACTUAL | H8: GH¢ | J8: BUDGET GH¢ | K8: GH¢ | M8: ACTUAL | N8: GH¢
B10: Rates | C10: ='Re. & Pay.'!C10 -> 2 | D10: ='Re. & Pay.'!D10 -> 171065 | E10: ='Re. & Pay.'!E10 -> 170579.21 | G10: =E10/E19 -> 0.029728495 | H10: =D10-E10 -> 485.79 | J10: ='Re. & Pay.'!I10 -> 171065 | K10: ='Re. & Pay.'!J10 -> 125766.84 | M10: =K10/K19 -> 0.019150698 | N10: =J10-K10 -> 45298.16
B11: Land and Concessions | C11: ='Re. & Pay.'!C11 -> 3 | D11: ='Re. & Pay.'!D11 -> 124391.97 | E11: ='Re. & Pay.'!E11 -> 182943.86 | G11: =E11/E19 -> 0.031883402 | H11: =D11-E11 -> -58551.89 | J11: ='Re. & Pay.'!I11 -> 56100 | K11: ='Re. & Pay.'!J11 -> 88073.53 | M11: =K11/K19 -> 0.013411083 | N11: =J11-K11 -> -31973.53
B12: Fees and Fines | C12: ='Re. & Pay.'!C12 -> 4 | D12: ='Re. & Pay.'!D12 -> 269946.31 | E12: ='Re. & Pay.'!E12 -> 161514.5 | G12: =E12/E19 -> 0.0281487 | H12: =D12-E12 -> 108431.81 | J12: ='Re. & Pay.'!I12 -> 215040 | K12: ='Re. & Pay.'!J12 -> 133110.5 | M12: =K12/K19 -> 0.020268928 | N12: =J12-K12 -> 81929.5
B13: Licenses | C13: ='Re. & Pay.'!C13 -> 5 | D13: ='Re. & Pay.'!D13 -> 115911 | E13: ='Re. & Pay.'!E13 -> 138819 | G13: =E13/E19 -> 0.024193335 | H13: =D13-E13 -> -22908 | J13: ='Re. & Pay.'!I13 -> 94411 | K13: ='Re. & Pay.'!J13 -> 129752 | M13: =K13/K19 -> 0.019757524 | N13: =J13-K13 -> -35341
B14: Rent | C14: ='Re. & Pay.'!C14 -> 6 | D14: ='Re. & Pay.'!D14 -> 52490 | E14: ='Re. & Pay.'!E14 -> 35908 | G14: =E14/E19 -> 0.0062580357 | H14: =D14-E14 -> 16582 | J14: ='Re. & Pay.'!I14 -> 27805 | K14: ='Re. & Pay.'!J14 -> 10204 | M14: =K14/K19 -> 0.0015537778 | N14: =J14-K14 -> 17601
B15: Grants | C15: ='Re. & Pay.'!C15 -> 7 | D15: ='Re. & Pay.'!D15 -> 8654065.7 | E15: ='Re. & Pay.'!E15 -> 5018692.2 | G15: =E15/E19 -> 0.87465622 | H15: =D15-E15 -> 3635373.5 | J15: ='Re. & Pay.'!I15 -> 9483876.5 | K15: ='Re. & Pay.'!J15 -> 6046976 | M15: =K15/K19 -> 0.92078176 | N15: =J15-K15 -> 3436900.5
B16: Investment Income | C16: ='Re. & Pay.'!C16 -> 8 | D16: ='Re. & Pay.'!D16 -> 0 | E16: ='Re. & Pay.'!E16 -> 0 | G16: =E16/E19 -> 0 | H16: =D16-E16 -> 0 | J16: ='Re. & Pay.'!I16 -> 0 | K16: ='Re. & Pay.'!J16 -> 0 | M16: =K16/K19 -> 0 | N16: =J16-K16 -> 0
B17: Miscellaneous | C17: ='Re. & Pay.'!C17 -> 9 | D17: ='Re. & Pay.'!D17 -> 42080 | E17: ='Re. & Pay.'!E17 -> 29445.86 | G17: =E17/E19 -> 0.0051318159 | H17: =D17-E17 -> 12634.14 | J17: ='Re. & Pay.'!I17 -> 42080.6 | K17: ='Re. & Pay.'!J17 -> 33336.73 | M17: =K17/K19 -> 0.005076232 | N17: =J17-K17 -> 8743.87
B19: TOTAL REVENUE | D19: =SUM(D10:D18) -> 9429950 | E19: =SUM(E10:E18) -> 5737902.7 | G19: =SUM(G10:G18) -> 1 | H19: =SUM(H10:H18) -> 3692047.3 | J19: =SUM(J10:J18) -> 10090378 | K19: =SUM(K10:K18) -> 6567219.6 | M19: =SUM(M10:M18) -> 1 | N19: =SUM(N10:N18) -> 3523158.5
B22: EXPENDITURE
B24: Compensation of Employees | C24: ='Re. & Pay.'!C24 -> 10 | D24: ='Re. & Pay.'!D24 -> 2154514 | E24: ='Re. & Pay.'!E24 -> 1631630.7 | G24: =E24/E32 -> 0.45790708 | H24: =D24-E24 -> 522883.3 | J24: ='Re. & Pay.'!I24 -> 1944808.1 | K24: ='Re. & Pay.'!J24 -> 777941.64 | M24: =K24/K32 -> 0.25934447 | N24: =J24-K24 -> 1166866.4
B25: Goods and Services | C25: ='Re. & Pay.'!C25 -> 11 | D25: ='Re. & Pay.'!D25 -> 2187037 | E25: ='Re. & Pay.'!E25 -> 1246406.8 | G25: =E25/E32 -> 0.34979637 | H25: =D25-E25 -> 940630.2 | J25: ='Re. & Pay.'!I25 -> 2486994 | K25: ='Re. & Pay.'!J25 -> 1357404.8 | M25: =K25/K32 -> 0.45252163 | N25: =J25-K25 -> 1129589.2
B26: Consumption of Fixed Capital | C26: 12 | D26: =Summarys!E130 -> 0 | E26: =Summarys!I130 -> 0 | G26: =E26/E32 -> 0 | H26: =D26-E26 -> 0 | J26: =Summarys!L130 -> 0 | K26: =Summarys!M130 -> 0 | M26: =K26/K32 -> 0 | N26: =J26-K26 -> 0
B27: Interest | C27: ='Re. & Pay.'!C26 -> 13 | D27: ='Re. & Pay.'!D26 -> 0 | E27: ='Re. & Pay.'!E26 -> 0 | G27: =E27/E32 -> 0 | H27: =D27-E27 -> 0 | J27: ='Re. & Pay.'!I26 -> 0 | K27: ='Re. & Pay.'!J26 -> 0 | M27: =K27/K32 -> 0 | N27: =J27-K27 -> 0
B28: Grants | C28: ='Re. & Pay.'!C27 -> 14 | D28: ='Re. & Pay.'!D27 -> 0 | E28: ='Re. & Pay.'!E27 -> 0 | G28: =E28/E32 -> 0 | H28: =D28-E28 -> 0 | J28: ='Re. & Pay.'!I27 -> 0 | K28: ='Re. & Pay.'!J27 -> 0 | M28: =K28/K32 -> 0 | N28: =J28-K28 -> 0
B29: Social Benefits | C29: ='Re. & Pay.'!C28 -> 15 | D29: ='Re. & Pay.'!D28 -> 22419 | E29: ='Re. & Pay.'!E28 -> 5125 | G29: =E29/E32 -> 0.0014382996 | H29: =D29-E29 -> 17294 | J29: ='Re. & Pay.'!I28 -> 5500 | K29: ='Re. & Pay.'!J28 -> 3945 | M29: =K29/K32 -> 0.0013151551 | N29: =J29-K29 -> 1555
B30: Other Expenses | C30: ='Re. & Pay.'!C29 -> 16 | D30: ='Re. & Pay.'!D29 -> 1278583 | E30: ='Re. & Pay.'!E29 -> 680072.9 | G30: =E30/E32 -> 0.19085826 | H30: =D30-E30 -> 598510.1 | J30: ='Re. & Pay.'!I29 -> 815600 | K30: ='Re. & Pay.'!J29 -> 860354.75 | M30: =K30/K32 -> 0.28681875 | N30: =J30-K30 -> -44754.75
B32: TOTAL EXPENDITURE | D32: =SUM(D24:D31) -> 5642553 | E32: =SUM(E24:E31) -> 3563235.4 | G32: =SUM(G24:G31) -> 1 | H32: =SUM(H24:H31) -> 2079317.6 | J32: =SUM(J24:J31) -> 5252902 | K32: =SUM(K24:K31) -> 2999646.2 | M32: =SUM(M24:M31) -> 1 | N32: =SUM(N24:N31) -> 2253255.9
B34: SURPLUS/(DEFICIT) | D34: =D19-D32 -> 3787397 | E34: =E19-E32 -> 2174667.3 | H34: =H19+H32 -> 5771364.9 | J34: =J19-J32 -> 4837476 | K34: =K19-K32 -> 3567573.4 | N34: =N19+N32 -> 5776414.4

Sheet Chart
C2: REVENUE BAR CHART FOR THE ENDED FINANCIAL YEARS
C3: 31st DECEMBER 2015 AND 2016
E5: ='Bal. Sht'!D6 -> 2017 | G5: ='Bal. Sht'!F6 -> 2016
C6: ITEM NATURE | E6: CUM ACTUAL | G6: =E6 -> CUM ACTUAL
C8: Rates | E8: ='Rev. & Exp.'!E10 -> 170579.21 | G8: ='Rev. & Exp.'!K10 -> 125766.84
C9: Land and Concessions | E9: ='Rev. & Exp.'!E11 -> 182943.86 | G9: ='Rev. & Exp.'!K11 -> 88073.53
C10: Fees and Fines | E10: ='Rev. & Exp.'!E12 -> 161514.5 | G10: ='Rev. & Exp.'!K12 -> 133110.5
C11: Licenses | E11: ='Rev. & Exp.'!E13 -> 138819 | G11: ='Rev. & Exp.'!K13 -> 129752
C12: Rent | E12: ='Rev. & Exp.'!E14 -> 35908 | G12: ='Rev. & Exp.'!K14 -> 10204
C13: Grants | E13: ='Rev. & Exp.'!E15 -> 5018692.2 | G13: ='Rev. & Exp.'!K15 -> 6046976
C14: Investment Income | E14: ='Rev. & Exp.'!E16 -> 0 | G14: ='Rev. & Exp.'!K16 -> 0
C15: Miscellaneous | E15: ='Rev. & Exp.'!E17 -> 29445.86 | G15: ='Rev. & Exp.'!K17 -> 33336.73
C17: Total | E17: =SUM(E8:E16) -> 5737902.7 | G17: =SUM(G8:G16) -> 6567219.6
C35: EXPENDITURE PIE CHART FOR THE ENDED FINANCIAL YEARS
C36: =C3 -> 31st DECEMBER 2015 AND 2016
E38: =E5 -> 2017 | G38: =G5 -> 2016
C39: ITEM NATURE | E39: CUM ACTUAL | G39: =E39 -> CUM ACTUAL
C41: Compensation of Employees | E41: ='Rev. & Exp.'!E24 -> 1631630.7 | G41: ='Rev. & Exp.'!K24 -> 777941.64
C42: Goods and Services | E42: ='Rev. & Exp.'!E25 -> 1246406.8 | G42: ='Rev. & Exp.'!K25 -> 1357404.8
C43: Consumption of Fixed Capital | E43: ='Rev. & Exp.'!E26 -> 0 | G43: ='Rev. & Exp.'!K26 -> 0
C44: Interest | E44: ='Rev. & Exp.'!E27 -> 0 | G44: ='Rev. & Exp.'!K27 -> 0
C45: Grants | E45: ='Rev. & Exp.'!E28 -> 0 | G45: ='Rev. & Exp.'!K28 -> 0
C46: Social Benefits | E46: ='Rev. & Exp.'!E29 -> 5125 | G46: ='Rev. & Exp.'!K29 -> 3945
C47: Other Expenses | E47: ='Rev. & Exp.'!E30 -> 680072.9 | G47: ='Rev. & Exp.'!K30 -> 860354.75
C49: Total | E49: =SUM(E41:E48) -> 3563235.4 | G49: =SUM(G41:G48) -> 2999646.2

Sheet Notes (2)
B2: PRINCIPAL NOTES TO THE FINANACIAL STATEMENTS
B3: ='Bal. Sht'!B4:F4 -> 31st DECEMBER 2017
B6: NOTES | D6: CHANGES | F6: ='Bal. Sht'!D6 -> 2017 | H6: 2016
F7: GH¢ | H7: GH¢
B10: Note 1 | C10: ACCOUNTING POLICIES
B11: a. Basis of Accounts
B12: i. The Finanacial Statements are prepared on a modified cash basis
B13: ii. Revenue is recorded in the period in which it is received
B14: iii. Expenditure is recognised when goods and services are received and paid for
B15: iv. Payment for fixed assets acquired are written off in the year of the acquisition
B16: v.Advances, Debtors, Deposite are recorded at historical cost basis without dimunition in value.
B18: DISCLOSURE
B20: 2 | C20: Rates | D20: =F20-H20 -> 44812.37 | F20: =Summarys!I41 -> 170579.21 | H20: =Summarys!M41 -> 125766.84
B21: 3 | C21: Land and Concessions
C22: Lands & Royalities | D22: =F22-H22 -> 94870.33 | F22: =Summarys!I53 -> 182943.86 | H22: =Summarys!M53 -> 88073.53
B23: 4 | C23: Fees and Fines
C24: Fees | D24: =F24-H24 -> 15361.5 | F24: =Summarys!I56 -> 133085 | H24: =Summarys!M56 -> 117723.5
C25: Fines, Penalties & Forfeits | D25: =F25-H25 -> 13042.5 | F25: =Summarys!I57 -> 28429.5 | H25: =Summarys!M57 -> 15387
D26: =F26-H26 -> 28404 | F26: =SUM(F24:F25) -> 161514.5 | H26: =SUM(H24:H25) -> 133110.5
B27: 5 | C27: Licenses | D27: =F27-H27 -> 9067 | F27: =Summarys!I55 -> 138819 | H27: =Summarys!M55 -> 129752
B28: 6 | C28: Rent | D28: =F28-H28 -> 25704 | F28: =Summarys!I54 -> 35908 | H28: =Summarys!M54 -> 10204
B29: 7 | C29: Grants
C30: Grants - Districts | D30: =F30-H30 -> -1028283.8 | F30: =Summarys!I47 -> 5018692.2 | H30: =Summarys!M47 -> 6046976
B31: 8 | C31: Investment Income | D31: =F31-H31 -> 0 | F31: 0 | H31: 0
B32: 9 | C32: Miscellaneous | D32: =F32-H32 -> -3890.87 | F32: =Summarys!I58 -> 29445.86 | H32: =Summarys!M58 -> 33336.73
C33: Other Receivables | D33: =F33-H33 -> 0 | F33: 0 | H33: 0
B35: A | C35: Total Receipt | D35: =SUM(D32+D31+D30+D28+D27+D26+D22+D20)+D33 -> -829316.93 | F35: =SUM(F32+F31+F30+F28+F27+F26+F22+F20)+F33 -> 5737902.7 | H35: =SUM(H32+H31+H30+H28+H27+H26+H22+H20)+H33 -> 6567219.6
B37: 10 | C37: Compensation of Employees
C38: Established Position | D38: =F38-H38 -> 793642.14 | F38: =Summarys!I103 -> 1445415.8 | H38: =Summarys!M103 -> 651773.66
C39: Non-Established Post | D39: =F39-H39 -> 39538.24 | F39: =Summarys!I104 -> 122724.42 | H39: =Summarys!M104 -> 83186.18
C40: Other Allowances | D40: =F40-H40 -> 16518.48 | F40: =Summarys!I105 -> 59500.28 | H40: =Summarys!M105 -> 42981.8
C41: National Pension Contribution | D41: =F41-H41 -> 3990.2 | F41: =Summarys!I106 -> 3990.2 | H41: =Summarys!M106 -> 0
D42: =F42-H42 -> 853689.06 | F42: =SUM(F38:F41) -> 1631630.7 | H42: =SUM(H38:H41) -> 777941.64
B43: 11 | C43: Goods and Services
C44: Materials & Office Consumables | D44: =F44-H44 -> -20522.47 | F44: =Summarys!I112 -> 148975.34 | H44: =Summarys!M112 -> 169497.81
C45: Utilities | D45: =F45-H45 -> 28679.8 | F45: =Summarys!I113 -> 140997 | H45: =Summarys!M113 -> 112317.2
C46: General Cleaning | D46: =F46-H46 -> 1213.2 | F46: =Summarys!I114 -> 1558.2 | H46: =Summarys!M114 -> 345
C47: Rentals | D47: =F47-H47 -> -8492.77 | F47: =Summarys!I115 -> 0 | H47: =Summarys!M115 -> 8492.77
C48: Travel & Transport | D48: =F48-H48 -> -55759.46 | F48: =Summarys!I116 -> 161605.09 | H48: =Summarys!M116 -> 217364.55
C49: Repairs & Maintenance | D49: =F49-H49 -> -4084.65 | F49: =Summarys!I117 -> 364010.75 | H49: =Summarys!M117 -> 368095.4
...

Sheet Notes
B2: PRICIPAL NOTES TO THE FINANACIAL STATEMENTS
B3: ='Bal. Sheet'!B5:F5 -> 31st DECEMBER 2013 AND 2014
B7: NOTES | D7: 2014 | F7: 2013
D8: GH¢ | F8: GH¢
B10: 2 | C10: Rates | D10: =Summarys!I41 -> 170579.21 | F10: =Summarys!M41 -> 125766.84
B12: 3 | C12: Land and Concessions
C13: Lands & Royalities | D13: =Summarys!I53 -> 182943.86 | F13: =Summarys!M53 -> 88073.53
B15: 4 | C15: Fees and Fines
C16: Fees | D16: =Summarys!I56 -> 133085 | F16: =Summarys!M56 -> 117723.5
C17: Fines, Penalties & Forfeits | D17: =Summarys!I57 -> 28429.5 | F17: =Summarys!M57 -> 15387
D18: =SUM(D16:D17) -> 161514.5 | F18: =SUM(F16:F17) -> 133110.5
B20: 5 | C20: Licenses | D20: =Summarys!I55 -> 138819 | F20: =Summarys!M55 -> 129752
B22: 6 | C22: Rent | D22: =Summarys!I54 -> 35908 | F22: =Summarys!M54 -> 10204
B24: 7 | C24: Grants
C25: Grants - Districts | D25: =Summarys!I47 -> 5018692.2 | F25: =Summarys!M47 -> 6046976
B27: 8 | C27: Investment Income | D27: 0 | F27: 0
B29: 9 | C29: Miscellaneous | D29: =Summarys!I58 -> 29445.86 | F29: =Summarys!M58 -> 33336.73
C31: Total Receipt | D31: =SUM(D29+D27+D25+D22+D20+D18+D13+D10) -> 5737902.7 | F31: =SUM(F29+F27+F25+F22+F20+F18+F13+F10) -> 6567219.6
B33: 10 | C33: Compensation of Employees
C34: Established Position | D34: =Summarys!I103 -> 1445415.8 | F34: =Summarys!M103 -> 651773.66
C35: Non-Established Post | D35: =Summarys!I104 -> 122724.42 | F35: =Summarys!M104 -> 83186.18
C36: Other Allowances | D36: =Summarys!I105 -> 59500.28 | F36: =Summarys!M105 -> 42981.8
C37: National Pension Contribution | D37: =Summarys!I106 -> 3990.2 | F37: =Summarys!M106 -> 0
D38: =SUM(D34:D37) -> 1631630.7 | F38: =SUM(F34:F37) -> 777941.64
B39: 11 | C39: Goods and Services
C40: Materials & Office Consumables | D40: =Summarys!I112 -> 148975.34 | F40: =Summarys!M112 -> 169497.81
C41: Utilities | D41: =Summarys!I113 -> 140997 | F41: =Summarys!M113 -> 112317.2
C42: General Cleaning | D42: =Summarys!I114 -> 1558.2 | F42: =Summarys!M114 -> 345
C43: Rentals | D43: =Summarys!I115 -> 0 | F43: =Summarys!M115 -> 8492.77
C44: Travel & Transport | D44: =Summarys!I116 -> 161605.09 | F44: =Summarys!M116 -> 217364.55
C45: Repairs & Maintenance | D45: =Summarys!I117 -> 364010.75 | F45: =Summarys!M117 -> 368095.4
C46: Traning, Seminar & Confer. Cost | D46: =Summarys!I118 -> 240853.95 | F46: =Summarys!M118 -> 292038.55
C47: Consultancy Expenses | D47: =Summarys!I119 -> 85360.37 | F47: =Summarys!M119 -> 0
C48: Special Services | D48: =Summarys!I120 -> 97668.4 | F48: =Summarys!M120 -> 108221
C49: Other Charges & Fees | D49: =Summarys!I121 -> 5377.7 | F49: =Summarys!M121 -> 11442.09
C50: Emergency Services | D50: =Summarys!I122 -> 0 | F50: =Summarys!M122 -> 69590.4
D51: =SUM(D40:D50) -> 1246406.8 | F51: =SUM(F40:F50) -> 1357404.8
B52: 12 | C52: Consumption of Fixed Capital
C53: Consumption of Fixed Capital [GFS] | D53: =Summarys!I128 -> 0 | F53: =Summarys!M128 -> 0
D54: =SUM(D53) -> 0 | F54: =SUM(F53) -> 0
...

Sheet Summarys
B2: ='Bal. Sht'!B2:F2 -> ~ 0215100 - KOMENDA-EDINA-EGUAFO-ABREM MUNICIPAL ASSEMBLY ~
B3: REVENUE MAIN SUMMARY
B4: ='Bal. Sht'!B4:F4 -> 31st DECEMBER 2017
E6: ='Bal. Sht'!D6 -> 2017 | L6: ='Bal. Sht'!F6 -> 2016
E7: ANNUAL | F7: BUDGET | G7: ACTUALS | I7: CUM ACTUAL | J7: % OF | L7: ANNUAL | M7: CUM ACTUAL | N7: % OF
B8: CODES | D8: MAIN ITEM NAME | E8: BUDGET GH¢ | F8: (GH¢) | G8: (GH¢) | H8: (GH¢) | I8: GH¢ | J8: ACTUAL | L8: BUDGET GH¢ | M8: GH¢ | N8: ACTUAL
B10: 1100000 | D10: Taxes | E10: =E43 -> 171065 | F10: =F43 -> #REF! | G10: =G43 -> #REF! | H10: =H43 -> #REF! | I10: =I43 -> 170579.21 | J10: =I10/E10 -> 0.9971602 | L10: =L43 -> 171065 | M10: =M43 -> 125766.84 | N10: =M10/L10 -> 0.73519913
B11: 1300000 | D11: Donor Grants & Reliefs | E11: =E49 -> 8654065.7 | F11: =F49 -> #REF! | G11: =G49 -> #REF! | H11: =H49 -> #REF! | I11: =I49 -> 5018692.2 | J11: =I11/E11 -> 0.57992306 | L11: =L49 -> 9483876.5 | M11: =M49 -> 6046976 | N11: =M11/L11 -> 0.63760594
B12: 1400000 | D12: Other Revenue | E12: =E60 -> 604819.28 | F12: =F60 -> #REF! | G12: =G60 -> #REF! | H12: =H60 -> #REF! | I12: =I60 -> 548631.22 | J12: =I12/E12 -> 0.90709942 | L12: =L60 -> 435436.6 | M12: =M60 -> 394476.76 | N12: =M12/L12 -> 0.90593386
B14: GRAND TOTAL | E14: =SUM(E10:E13) -> 9429950 | F14: =SUM(F10:F13) -> #REF! | G14: =SUM(G10:G13) -> #REF! | H14: =SUM(H10:H13) -> #REF! | I14: =SUM(I10:I13) -> 5737902.7 | J14: =I14/E14 -> 0.60847647 | L14: =SUM(L10:L13) -> 10090378 | M14: =SUM(M10:M13) -> 6567219.6 | N14: =M14/L14 -> 0.65083979
B31: =B2 -> ~ 0215100 - KOMENDA-EDINA-EGUAFO-ABREM MUNICIPAL ASSEMBLY ~
B32: REVENUE SUB SUMMARY
B33: =B4 -> 31st DECEMBER 2017
E35: =E6 -> 2017 | L35: =L6 -> 2016
E36: ANNUAL | F36: BUDGET | G36: ACTUALS | I36: CUM ACTUAL | J36: % OF | L36: ANNUAL | M36: CUM ACTUAL | N36: % OF
B37: CODES | D37: MAIN ITEM NAME | E37: BUDGET GH¢ | F37: (GH¢) | G37: (GH¢) | H37: (GH¢) | I37: GH¢ | J37: ACTUAL | L37: BUDGET GH¢ | M37: GH¢ | N37: ACTUAL
B39: 1100000 | D39: Taxes
B41: 1131000 | D41: Rates | E41: ='Rev. T''bal.'!E18 -> 171065 | F41: ='Rev. T''bal.'!#REF! -> #REF! | G41: ='Rev. T''bal.'!#REF! -> #REF! | H41: ='Rev. T''bal.'!#REF! -> #REF! | I41: ='Rev. T''bal.'!F18 -> 170579.21 | J41: =I41/E41 -> 0.9971602 | L41: ='Rev. T''bal.'!I18 -> 171065 | M41: ='Rev. T''bal.'!J18 -> 125766.84 | N41: =M41/L41 -> 0.73519913
E43: =SUM(E41:E42) -> 171065 | F43: =SUM(F41:F42) -> #REF! | G43: =SUM(G41:G42) -> #REF! | H43: =SUM(H41:H42) -> #REF! | I43: =SUM(I41:I42) -> 170579.21 | J43: =I43/E43 -> 0.9971602 | L43: =SUM(L41:L42) -> 171065 | M43: =SUM(M41:M42) -> 125766.84 | N43: =M43/L43 -> 0.73519913
B45: 1300000 | D45: Donor Grants & Reliefs
B47: 1331000 | D47: Grants - Districts | E47: ='Rev. T''bal.'!E40 -> 8654065.7 | F47: ='Rev. T''bal.'!#REF! -> #REF! | G47: ='Rev. T''bal.'!#REF! -> #REF! | H47: ='Rev. T''bal.'!#REF! -> #REF! | I47: ='Rev. T''bal.'!F40 -> 5018692.2 | J47: =I47/E47 -> 0.57992306 | L47: ='Rev. T''bal.'!I40 -> 9483876.5 | M47: ='Rev. T''bal.'!J40 -> 6046976 | N47: =M47/L47 -> 0.63760594
E49: =SUM(E46:E47) -> 8654065.7 | F49: =SUM(F46:F47) -> #REF! | G49: =SUM(G46:G47) -> #REF! | H49: =SUM(H46:H47) -> #REF! | I49: =SUM(I46:I47) -> 5018692.2 | J49: =I49/E49 -> 0.57992306 | L49: =SUM(L46:L47) -> 9483876.5 | M49: =SUM(M46:M47) -> 6046976 | N49: =M49/L49 -> 0.63760594
B51: 1400000 | D51: Other Revenue
B53: 1412000 | D53: Lands & Royalities | E53: ='Rev. T''bal.'!E52 -> 124391.97 | F53: ='Rev. T''bal.'!#REF! -> #REF! | G53: ='Rev. T''bal.'!#REF! -> #REF! | H53: ='Rev. T''bal.'!#REF! -> #REF! | I53: ='Rev. T''bal.'!F52 -> 182943.86 | J53: =I53/E53 -> 1.4707047 | L53: ='Rev. T''bal.'!I52 -> 56100 | M53: ='Rev. T''bal.'!J52 -> 88073.53 | N53: =M53/L53 -> 1.5699381
B54: 1415000 | D54: Rents of Land, Buildings & Houses | E54: ='Rev. T''bal.'!E62 -> 52490 | F54: ='Rev. T''bal.'!#REF! -> #REF! | G54: ='Rev. T''bal.'!#REF! -> #REF! | H54: ='Rev. T''bal.'!#REF! -> #REF! | I54: ='Rev. T''bal.'!F62 -> 35908 | J54: =I54/E54 -> 0.68409221 | L54: ='Rev. T''bal.'!I62 -> 27805 | M54: ='Rev. T''bal.'!J62 -> 10204 | N54: =M54/L54 -> 0.36698436
B55: 1422000 | D55: Licenses | E55: ='Rev. T''bal.'!E93 -> 115911 | F55: ='Rev. T''bal.'!#REF! -> #REF! | G55: ='Rev. T''bal.'!#REF! -> #REF! | H55: ='Rev. T''bal.'!#REF! -> #REF! | I55: ='Rev. T''bal.'!F93 -> 138819 | J55: =I55/E55 -> 1.1976344 | L55: ='Rev. T''bal.'!I93 -> 94411 | M55: ='Rev. T''bal.'!J93 -> 129752 | N55: =M55/L55 -> 1.3743314
B56: 1423000 | D56: Fees | E56: ='Rev. T''bal.'!E109 -> 261546.31 | F56: ='Rev. T''bal.'!#REF! -> #REF! | G56: ='Rev. T''bal.'!#REF! -> #REF! | H56: ='Rev. T''bal.'!#REF! -> #REF! | I56: ='Rev. T''bal.'!F109 -> 133085 | J56: =I56/E56 -> 0.50883914 | L56: ='Rev. T''bal.'!I109 -> 206640 | M56: ='Rev. T''bal.'!J109 -> 117723.5 | N56: =M56/L56 -> 0.56970335
B57: 1430000 | D57: Fines, Penalties & Forfeits | E57: ='Rev. T''bal.'!E115 -> 8400 | F57: ='Rev. T''bal.'!#REF! -> #REF! | G57: ='Rev. T''bal.'!#REF! -> #REF! | H57: ='Rev. T''bal.'!#REF! -> #REF! | I57: ='Rev. T''bal.'!F115 -> 28429.5 | J57: =I57/E57 -> 3.3844643 | L57: ='Rev. T''bal.'!I115 -> 8400 | M57: ='Rev. T''bal.'!J115 -> 15387 | N57: =M57/L57 -> 1.8317857
B58: 1450000 | D58: Miscellaneous and Unidentified Revenue | E58: ='Rev. T''bal.'!E120 -> 42080 | F58: ='Rev. T''bal.'!#REF! -> #REF! | G58: ='Rev. T''bal.'!#REF! -> #REF! | H58: ='Rev. T''bal.'!#REF! -> #REF! | I58: ='Rev. T''bal.'!F120 -> 29445.86 | J58: =I58/E58 -> 0.69975903 | L58: ='Rev. T''bal.'!I120 -> 42080.6 | M58: ='Rev. T''bal.'!J120 -> 33336.73 | N58: =M58/L58 -> 0.79221138
E60: =SUM(E53:E58) -> 604819.28 | F60: =SUM(F53:F58) -> #REF! | G60: =SUM(G53:G58) -> #REF! | H60: =SUM(H53:H58) -> #REF! | I60: =SUM(I53:I58) -> 548631.22 | J60: =I60/E60 -> 0.90709942 | L60: =SUM(L53:L58) -> 435436.6 | M60: =SUM(M53:M58) -> 394476.76 | N60: =M60/L60 -> 0.90593386
B62: GRAND TOTAL | E62: =SUM(E60,E49,E43) -> 9429950 | F62: =SUM(F60,F49,F43) -> #REF! | G62: =SUM(G60,G49,G43) -> #REF! | H62: =SUM(H60,H49,H43) -> #REF! | I62: =SUM(I60,I49,I43) -> 5737902.7 | J62: =I62/E62 -> 0.60847647 | L62: =SUM(L60,L49,L43) -> 10090378 | M62: =SUM(M60,M49,M43) -> 6567219.6 | N62: =M62/L62 -> 0.65083979
B64: =B2 -> ~ 0215100 - KOMENDA-EDINA-EGUAFO-ABREM MUNICIPAL ASSEMBLY ~
B65: EXPENDITURE MAIN SUMMARY
B66: ='Bal. Sht'!B4:F4 -> 31st DECEMBER 2017
E68: =E6 -> 2017 | L68: =L6 -> 2016
E69: ANNUAL | F69: BUDGET | G69: ACTUALS | I69: CUM ACTUAL | J69: % OF | L69: ANNUAL | M69: CUM ACTUAL | N69: % OF
B70: CODES | D70: MAIN ITEM NAME | E70: BUDGET GH¢ | F70: (GH¢) | G70: (GH¢) | H70: (GH¢) | I70: GH¢ | J70: ACTUAL | L70: BUDGET GH¢ | M70: GH¢ | N70: ACTUAL
B72: 2100000 | D72: Compensation of Employees | E72: =E108 -> 2154514 | F72: =F108 -> #REF! | G72: =G108 -> #REF! | H72: =H108 -> #REF! | I72: =I108 -> 1631630.7 | J72: =I72/E72 -> 0.75730801 | L72: =L108 -> 1944808.1 | M72: =M108 -> 777941.64 | N72: =M72/L72 -> 0.40000947
B73: 2200000 | D73: Use of Goods & Services | E73: =E124 -> 2187037 | F73: =F124 -> #REF! | G73: =G124 -> #REF! | H73: =H124 -> #REF! | I73: =I124 -> 1246406.8 | J73: =I73/E73 -> 0.56990659 | L73: =L124 -> 2486994 | M73: =M124 -> 1357404.8 | N73: =M73/L73 -> 0.54580139
B74: 2300000 | D74: Consumption of Fixed Capital [GFS] | E74: =E130 -> 0 | F74: =E74/12 -> 0 | G74: 0 | H74: =G74-F74 -> 0 | I74: ='Exp. T''bal.'!F143 -> 0 | J74: - | L74: 0 | M74: 0 | N74: -
...

Sheet Rev. T'bal.
B2: ='Bal. Sht'!B2:F2 -> ~ 0215100 - KOMENDA-EDINA-EGUAFO-ABREM MUNICIPAL ASSEMBLY ~
B3: ANNUAL COMPARATIVE STATEMENT OF REVENUE AS AT THE YEAR
B4: ='Bal. Sht'!B4:F4 -> 31st DECEMBER 2017
E7: ='Bal. Sht'!D6 -> 2017 | F7: ='Bal. Sht'!D6 -> 2017 | G7: % OF | I7: 2016 | J7: 2016 | K7: % OF
B8: REVENUE ITEMS | E8: ANNUAL BUDGET | F8: ='Re. & Pay.'!E7 -> CUMM. ACTUAL | G8: ACTUAL | I8: ANNUAL BUDGET | J8: ='Re. & Pay.'!J7 -> CUMM. ACTUAL | K8: ACTUAL
E9: ='Rec. & Pay.'!D8 -> GH¢ | F9: =E9 -> GH¢ | G9: % | I9: GH¢ | J9: =I9 -> GH¢ | K9: %
B11: =Summarys!B10 -> 1100000 | C11: =Summarys!D10 -> Taxes
B13: =Summarys!B41 -> 1131000 | C13: =Summarys!D41 -> Rates
B14: =REVENUE!C80 -> 1131001 | C14: =VLOOKUP(B14,REVENUE!C:D,2,FALSE) -> Basic Rates | E14: 1500 | F14: 2197 | G14: =F14/E14 -> 1.4646667 | I14: 1500 | J14: 0 | K14: =J14/I14 -> 0
B15: 1131002 | C15: =VLOOKUP(B15,REVENUE!C:D,2,FALSE) -> Property Rates | E15: 169565 | F15: 163246.51 | G15: =F15/E15 -> 0.96273706 | I15: 124560 | J15: 125466.84 | K15: =J15/I15 -> 1.0072803
B16: 1131003 | C16: =VLOOKUP(B16,REVENUE!C:D,2,FALSE) -> Property Rate Arrears | E16: 0 | F16: 5135.7 | G16: - | I16: 45005 | J16: 300 | K16: =J16/I16 -> 0.006665926
C18: SUB SUB - TOTAL | E18: =SUM(E14:E17) -> 171065 | F18: =SUM(F14:F17) -> 170579.21 | G18: =SUM(G14:G16) -> 2.4274037 | I18: =SUM(I14:I17) -> 171065 | J18: =SUM(J14:J17) -> 125766.84 | K18: =J18/I18 -> 0.73519913
C20: SUB - TOTAL | E20: =SUM(E18) -> 171065 | F20: =SUM(F18) -> 170579.21 | G20: =F20/E20 -> 0.9971602 | I20: =SUM(I18) -> 171065 | J20: =SUM(J18) -> 125766.84 | K20: =J20/I20 -> 0.73519913
B22: =Summarys!B11 -> 1300000 | C22: =Summarys!D11 -> Donor Grants & Reliefs
B24: =Summarys!B47 -> 1331000 | C24: =Summarys!D47 -> Grants - Districts
B25: =REVENUE!C209 -> 1331001 | C25: =VLOOKUP(B25,REVENUE!C:D,2,FALSE) -> Central Government - GOG Paid Salaries | E25: 1945168 | F25: 1445415.8 | G25: =F25/E25 -> 0.74308019 | I25: 1790106.4 | J25: 651773.66 | K25: =J25/I25 -> 0.36409771
B26: =REVENUE!C210 -> 1331002 | C26: DACF/PWD - Assembly | E26: 0 | F26: 0 | G26: - | I26: 65280 | J26: 92700.06 | K26: =J26/I26 -> 1.4200377
B27: 1331003 | C27: =VLOOKUP(B27,REVENUE!C:D,2,FALSE) -> DACF - MP | E27: 345005 | F27: 218412.34 | G27: =F27/E27 -> 0.63307007 | I27: 345005 | J27: 99526.81 | K27: =J27/I27 -> 0.28847933
B28: =REVENUE!C212 -> 1331004 | C28: =VLOOKUP(B28,REVENUE!C:D,2,FALSE) -> Ceded Revenue | E28: 0 | F28: 0 | G28: - | I28: 0 | J28: 0 | K28: -
B29: 1331005 | C29: =VLOOKUP(B29,REVENUE!C:D,2,FALSE) -> HIPC | E29: 0 | F29: 0 | G29: - | I29: 0 | J29: 0 | K29: -
B30: 1331006 | C30: =VLOOKUP(B30,REVENUE!C:D,2,FALSE) -> Sanitation Fund | E30: 0 | F30: 0 | G30: - | I30: 0 | J30: 0 | K30: -
B31: 1331008 | C31: =VLOOKUP(B31,REVENUE!C:D,2,FALSE) -> Ghana School Feeding Prog./HIV AIDS, etc | E31: 0 | F31: 0 | G31: - | I31: 701294 | J31: 1600 | K31: =J31/I31 -> 0.0022814968
B32: 1331009 | C32: =VLOOKUP(B32,REVENUE!C:D,2,FALSE) -> G and S (Decent. Depts) GOG | E32: 80028 | F32: 28581 | G32: =F32/E32 -> 0.3571375 | I32: 54318.1 | J32: 16544 | K32: =J32/I32 -> 0.30457619
B33: 1331010 | C33: =VLOOKUP(B33,REVENUE!C:D,2,FALSE) -> DDF Related Recurrent transfers(cap. Build) | E33: 51413 | F33: 0 | G33: =F33/E33 -> 0 | I33: 302586.46 | J33: 0 | K33: =J33/I33 -> 0
B34: 1332001 | C34: =VLOOKUP(B34,REVENUE!C:D,2,FALSE) -> DACF Direct transfers | E34: 3351514.5 | F34: 1518203.2 | G34: =F34/E34 -> 0.45299018 | I34: 3225936 | J34: 2279842.9 | K34: =J34/I34 -> 0.70672291
