Workbook

Sheet NOTES
A2: ANNUAL COMPARATIVE STATEMENT OF REVENUE AS AT THE YEAR 2019
A4: REVENUE ITEMS
C5: 2019 | D5: 2019 | E5: % OF | F5: 2018 | G5: 2018 | H5: % OF
C6: ANNUAL BUDGET | D6: ACTUAL | E6: ACTUAL | F6: ANNUAL BUDGET | G6: ACTUAL | H6: ACTUAL
A9: 2 | B9: GRANTS | C9: GH¢ | D9: GH¢ | E9: GH¢ | F9: GH¢ | G9: GH¢ | H9: GH¢
B10: OTHER GEN. GOV'T UNITS
A11: 1331001 | B11: Central Gov't GOG Salaries Received | C11: 2382903 | D11: 2789802.1 | E11: =D11/C11*100 -> 117.07577 | F11: 2445444.4 | G11: 2002357.5 | H11: =G11/F11*100 -> 81.88113
A12: 1331002 | B12: DACF/PWD - Assembly | C12: 3709990.9 | D12: 2644281.9 | E12: =D12/C12*100 -> 71.274618 | F12: 3674431.9 | G12: 1786591.2 | H12: =G12/F12*100 -> 48.622244
A13: 1331003 | B13: MP Common Fund | C13: 274238.3 | D13: 339407.68 | E13: =D13/C13*100 -> 123.76378 | F13: 230395.52 | G13: 392132.16 | H13: =G13/F13*100 -> 170.19956
A14: 1331008 | B14: Other Donor Funded Grant | C14: 321628.29 | D14: 38397.91 | E14: =D14/C14*100 -> 11.938598 | F14: 147000 | G14: 102735.92 | H14: =G14/F14*100 -> 69.888381
A15: 1331009 | B15: Decentralised Department | C15: 94598.93 | D15: 0 | E15: =D15/C15*100 -> 0 | F15: 164773.48 | G15: 149826.92 | H15: =G15/F15*100 -> 90.929026
A16: 1331011 | B16: DDF - Capital Investments | C16: 305557.96 | D16: 384106.6 | E16: =D16/C16*100 -> 125.70663 | F16: 1160873 | G16: 442902 | H16: =G16/F16*100 -> 38.152494
B17: UDG Capital Projects | C17: 0 | D17: 0 | E17: 0 | F17: 1234259.8 | G17: 0 | H17: =G17/F17*100 -> 0
B18: Sub Total | C18: =SUM(C11:C17) -> 7088917.4 | D18: =SUM(D11:D17) -> 6195996.2 | E18: =D18/C18*100 -> 87.403983 | F18: =SUM(F11:F17) -> 9057178.1 | G18: =SUM(G11:G17) -> 4876545.8 | H18: =G18/F18*100 -> 53.841778
A20: 3 | B20: RATES
A21: 1413001 | B21: Basic Rate | C21: 1500 | D21: 0 | E21: =D21/C21*100 -> 0 | F21: 500 | G21: 0 | H21: 0
A22: 1413002 | B22: Property Rate | C22: 383180 | D22: 174828.77 | E22: =D22/C22*100 -> 45.625756 | F22: 168583.66 | G22: 227460.84 | H22: =G22/F22*100 -> 134.92461
A23: 1131003 | B23: Property Rates Arrears | C23: 0 | D23: 12650.2 | E23: 0 | F23: 4500 | G23: 1552.5 | H23: =G23/F23*100 -> 34.5
A24: 1131004 | B24: Unassessed Rates | C24: 0 | E24: 0 | F24: 0 | G24: 0 | H24: 0
B25: Sub Total | C25: =SUM(C21:C24) -> 384680 | D25: =SUM(D22:D24) -> 187478.97 | E25: =D25/C25*100 -> 48.736344 | F25: =SUM(F21:F24) -> 173583.66 | G25: =SUM(G21:G24) -> 229013.34 | H25: =G25/F25*100 -> 131.93254
C31: 2019 | D31: 2019 | F31: 2018 | G31: 2018
C32: BUDGET | D32: ACTUAL | E32: % | F32: BUDGET | G32: ACTUAL | H32: %
C33: GH¢ | D33: GH¢ | F33: GH¢ | G33: GH¢
A34: 4 | B34: LANDS / CONCESSIONS
A35: 1412002 | B35: Concessions / Sand winning | C35: 500 | D35: 3852.5 | E35: =D35/C35*100 -> 770.5 | F35: 500 | G35: 8066.69 | H35: =G35/F35*100 -> 1613.338
A36: 1412003 | B36: Stool Land Revenue | C36: 7200 | D36: 8523.9 | E36: =D36/C36*100 -> 118.3875 | F36: 0
A37: 1412004 | B37: Sale of Building Permit Jacket | C37: 8800 | D37: 9160 | E37: =D37/C37*100 -> 104.09091 | F37: 8800 | G37: 8798 | H37: =G37/F37*100 -> 99.977273
A38: 1412007 | B38: Building Plans / Permit | C38: 154960 | D38: 136895.9 | E38: =D38/C38*100 -> 88.342734 | F38: 52800 | G38: 150672.5 | H38: =G38/F38*100 -> 285.36458
A39: 1412009 | B39: Comm. Mast Permit | C39: 32000 | D39: 48000 | E39: =D39/C39*100 -> 150 | F39: 10000 | G39: 24080 | H39: =G39/F39*100 -> 240.8
B40: Sub Total | C40: =SUM(C35:C39) -> 203460 | D40: =SUM(D35:D39) -> 206432.3 | E40: =D40/C40*100 -> 101.46088 | F40: =SUM(F35:F39) -> 72100 | G40: =SUM(G35:G39) -> 191617.19 | H40: =G40/F40*100 -> 265.76587
A42: 5 | B42: RENT OF LANDS, BUILDINGS
A43: 1415015 | B43: Low Cost Houses / Bungalows | C43: 4320 | D43: 14255 | E43: =D43/C43*100 -> 329.97685 | F43: 24081.34 | G43: 10227.8 | H43: =G43/F43*100 -> 42.471889
A44: 1415017 | B44: Lorry Park Tickets | C44: 80042 | D44: 38390 | E44: =D44/C44*100 -> 47.96232 | F44: 80042 | G44: 52288.3 | H44: =G44/F44*100 -> 65.326079
A45: 1415052 | B45: Stores Rental | C45: 55824 | D45: 35124 | E45: =D45/C45*100 -> 62.919175 | F45: 24600 | G45: 21106 | H45: =G45/F45*100 -> 85.796748
B46: Sub Total | C46: =SUM(C43:C45) -> 140186 | D46: =SUM(D43:D45) -> 87769 | E46: =D46/C46*100 -> 62.608962 | F46: =SUM(F43:F45) -> 128723.34 | G46: =SUM(G43:G45) -> 83622.1 | H46: =G46/F46*100 -> 64.962656
A52: 6 | B52: LICENSE | C52: GH¢ | D52: GH¢ | E52: % | F52: GH¢ | G52: GH¢ | H52: %
A53: 1422001 | B53: Pito /Palm Wine Tapers | C53: 156 | D53: 0 | E53: 0 | F53: 156 | G53: 0 | H53: 0
A54: 1422002 | B54: Herbalist License | C54: 300 | D54: 125 | E54: =D54/C54*100 -> 41.666667 | F54: 300 | G54: 205 | H54: =G54/F54*100 -> 68.333333
A55: 1422003 | B55: Hawkers License | C55: 300 | D55: 215 | E55: =D55/C55*100 -> 71.666667 | F55: 300 | G55: 395 | H55: =G55/F55*100 -> 131.66667
A56: 1422005 | B56: Chop Bar/ Restaurants | C56: 2100 | D56: 960 | E56: =D56/C56*100 -> 45.714286 | F56: 3600 | G56: 690 | H56: =G56/F56*100 -> 19.166667
...

Sheet Fin Position
A1: KOMENDA-EDINA-EGUAFO-ABREM MUNICIPAL ASSEMBLY
A3: STATEMENT OF FINANCIAL POSITION AS AT 31ST DECEMBER 2019
C4: CURRENT | E4: PREVIOUS
C5: 2019 | E5: 2018
A6: ASSETS | C6: GH¢ | E6: GH¢
B7: Notes
A8: CURRENT ASSETS
A9: Cash and Cash Equivalent | B9: 16 | C9: 1310521 | E9: 476105.56
A10: Receivables / Advances | B10: 17 | C10: 19667.25 | E10: 19667.25
A13: TOTAL CURRENT ASSET | C13: =SUM(C9:C12) -> 1330188.3 | E13: =SUM(E9:E12) -> 495772.81
A15: NON CURRENT ASSETS
A16: Infrastructure, Plant and Equipment | B16: 14 | C16: 747991.54
A17: Work In-Progress | B17: 15 | C17: 106555.9
A18: TOTAL NON-CURRENT ASSET | C18: =SUM(C16:C17) -> 854547.44 | E18: =SUM(E16:E17) -> 0
A20: TOTAL ASSETS | C20: =C13+C18 -> 2184735.7 | E20: =E13+E18 -> 495772.81
A22: CURRENT LIABILITIES
A23: Payables | B23: 21 | C23: 0
A24: Deposits and Other Trust Monies | B24: 22 | C24: 0
A25: Short-term borrowings | B25: 23 | C25: 0
A26: TOTAL CURRENT LIABILITIES | C26: =SUM(C23:C25) -> 0 | E26: =SUM(E23:E25) -> 0
A28: NON- CURRENT LIABILITIES
A29: Domestic | B29: 24 | C29: 0 | E29: 0
A30: External | B30: 25 | C30: 0
A31: TOTAL NON-CURRENT LIABILITIES | C31: =SUM(C29:C30) -> 0
A33: TOTAL LIABILITIES | C33: =C26+C31 -> 0 | E33: =E26+E31 -> 0
A35: NET ASSETS | C35: =C20-C33 -> 2184735.7 | E35: =E20-E33 -> 495772.81
A36: CONTRIBUTED BY
A37: Surpluses / (Deficits) | C37: 1688962.9 | E37: -699323.36
A38: SURPLUSES FROM PREVIOUS YEARS | C38: 495772.81 | E38: 1195096.2
A39: NETWORTH | C39: =C37+C38 -> 2184735.7 | E39: =E37+E38 -> 495772.81 | H39: =C35-C39 -> 0
A42: …………………………………………………… | C42: ………………………………………………
A43: DANIEL OSEI-ASIBEY | C43: JOHN ATTABLAYO | D43: JONATHAN OBENG YEBOAH
A44: MUNICIPAL CO-ORD. DIRECTOR | C44: MUNICIPAL FINANCE OFFICER

Sheet Cum Rec & Pmt
A2: NAME OF MMDA: KOMENDA-EDINA-EGUAFO-ABREM MUNICIPAL ASSEMBLY
A3: ANNUAL COMPARATIVE STATEMENT OF RECEIPTS AND PAYMENT FOR THE YEAR ENDED
A4: 31ST DECEMBER 2019
C6: 2019 ANNUAL | D6: 2019 | E6: % OF | F6: 2018 ANNUAL | G6: 2018 | H6: % OF
C7: BUDGET | D7: ACTUAL | E7: ACTUAL | F7: BUDGET | G7: ACTUAL | H7: ACTUAL
A8: RECEIPTS | B8: NOTE | C8: GH¢ | D8: GH¢ | F8: GH¢ | G8: GH¢
A9: Grant - Other Gen. Gov't Unit | B9: 2 | C9: 7088917.4 | D9: 6195996.2 | E9: =D9/C9*100 -> 87.403983 | F9: 9057178.1 | G9: 4876545.8 | H9: =G9/F9*100 -> 53.841778
A10: Rate | B10: 3 | C10: 384680 | D10: 297717.34 | E10: =D10/C10*100 -> 77.393506 | F10: 173583.66 | G10: 229013.34 | H10: =G10/F10*100 -> 131.93254
A11: Lands - Concessions | B11: 4 | C11: 203460 | D11: 159428.3 | E11: =D11/C11*100 -> 78.358547 | F11: 72100 | G11: 191617.19 | H11: =G11/F11*100 -> 265.76587
A12: Rent of Lands, Buildings | B12: 5 | C12: 140186 | D12: 85769 | E12: =D12/C12*100 -> 61.182286 | F12: 128723.34 | G12: 83622.1 | H12: =G12/F12*100 -> 64.962656
A13: Licenses | B13: 6 | C13: 137369.76 | D13: 208774.1 | E13: =D13/C13*100 -> 151.97966 | F13: 136146 | G13: 173840.6 | H13: =G13/F13*100 -> 127.68689
A14: Fees | B14: 7 | C14: 220400 | D14: 134219.13 | E14: =D14/C14*100 -> 60.897972 | F14: 113000 | G14: 80386.75 | H14: =G14/F14*100 -> 71.138717
A15: Fines, Penalties and Forfeits | B15: 8 | C15: 44029.5 | D15: 2670 | E15: =D15/C15*100 -> 6.0641161 | F15: 113000 | G15: 80386.75 | H15: =G15/F15*100 -> 71.138717
A16: Miscellenous | B16: 9 | C16: 42081.34 | D16: 72894 | E16: =D16/C16*100 -> 173.22167 | F16: 42081.34 | G16: 33606.4 | H16: =G16/F16*100 -> 79.860575
A17: TOTAL IGF | C17: =SUM(C10:C16) -> 1172206.6 | D17: =SUM(D10:D16) -> 961471.87 | E17: =D17/C17*100 -> 82.02239 | F17: =SUM(F10:F16) -> 778634.34 | G17: =SUM(G10:G16) -> 872473.13 | H17: =G17/F17*100 -> 112.05171
A18: TOTAL REVENUE | C18: =C9+C17 -> 8261124 | D18: =D9+D17 -> 7157468.1 | E18: =D18/C18*100 -> 86.640366 | F18: =F9+F17 -> 9835812.5 | G18: =G9+G17 -> 5749018.9 | H18: =G18/F18*100 -> 58.449863
A20: PAYMENT
A21: Compensation of Employees | B21: 13 | C21: 2592945 | D21: 2974666.4 | E21: =D21/C21*100 -> 114.72154 | F21: 2604950.4 | G21: 2145888.1 | H21: =G21/F21*100 -> 82.37731
A22: Use of Goods and Services | B22: 14 | C22: 3926444 | D22: 2488188.7 | E22: =D22/C22*100 -> 63.37003 | F22: 3691846 | G22: 2918182.8 | H22: =G22/F22*100 -> 79.044001
A23: Social Benefits | B23: 15 | C23: 20807 | D23: 0 | E23: =D23/C23*100 -> 0 | F23: 8900 | G23: 834 | H23: =G23/F23*100 -> 9.3707865
A24: Other General Expenses | B24: 16 | C24: 20500 | D24: 5650 | E24: =D24/C24*100 -> 27.560976 | F24: 106719 | G24: 59735 | H24: =G24/F24*100 -> 55.9741
A25: Non-Financial Assets - Grants | B25: 17 | C25: 1279287 | D25: 747991.54 | E25: =D25/C25*100 -> 58.469408 | F25: 2120149 | G25: 635747.04 | H25: =G25/F25*100 -> 29.98596
A26: Other Payments (WIP) | C26: 421141 | D26: 106555.9 | E26: =D26/C26*100 -> 25.301716 | F26: 1303248.1 | G26: 687955.34 | H26: =G26/F26*100 -> 52.787751
C27: =C21+C22+C23+C24+C26 -> 6981837 | D27: =D21+D22+D23+D24+D26 -> 5575061 | E27: =D27/C27*100 -> 79.850919 | F27: =F21+F22+F23+F24+F26 -> 7715663.5 | G27: =G21+G22+G23+G24+G26 -> 5812595.2 | H27: =G27/F27*100 -> 75.335002
A28: TOTAL PAYMENTS | C28: =C25+C27 -> 8261124 | D28: =D25+D27 -> 6323052.6 | E28: =D28/C28*100 -> 76.539858 | F28: =F27+F25 -> 9835812.5 | G28: =G27+G25 -> 6448342.2 | H28: =G28/F28*100 -> 65.559833
A31: NET RECEIPTS/PAYMENTS | C31: =C17-C27 -> -5809630.4 | D31: =D18-D28 -> 834415.48 | E31: =E17-E27 -> 2.1714706 | G31: =G18-G28 -> -699323.36 | H31: =H17-H27 -> 36.716713
A43: NAME OF MMDA: KOMENDA-EDINA-EGUAFO-ABREM MUNICIPAL ASSEMBLY
A44: ANNUAL COMPARATIVE STATEMENT OF REVENUE AND EXPENDITURE FOR THE YEAR ENDED
A45: 31ST DECEMBER 2019
C47: 2019 ANNUAL | D47: 2019 | E47: % OF | F47: 2018 ANNUAL | G47: 2018 | H47: % OF
C48: BUDGET | D48: ACTUAL | E48: ACTUAL | F48: BUDGET | G48: ACTUAL | H48: ACTUAL
A49: REVENUE | B49: NOTE | C49: GH¢ | D49: GH¢ | F49: GH¢ | G49: GH¢
A50: Grant - Other Gen. Gov't Unit | B50: 2 | C50: 7088917.4 | D50: 6195996.2 | E50: =D50/C50*100 -> 87.403983 | F50: 9057178.1 | G50: 4876545.8 | H50: =G50/F50*100 -> 53.841778
A51: Rate | B51: 3 | C51: 384680 | D51: 187478.97 | E51: =D51/C51*100 -> 48.736344 | F51: 173583.66 | G51: 229013.34 | H51: =G51/F51*100 -> 131.93254
A52: Lands - Concessions | B52: 4 | C52: 203460 | D52: 206432.3 | E52: =D52/C52*100 -> 101.46088 | F52: 72100 | G52: 191617.19 | H52: =G52/F52*100 -> 265.76587
A53: Rent of Lands, Buildings | B53: 5 | C53: 140186 | D53: 87769 | E53: =D53/C53*100 -> 62.608962 | F53: 128723.34 | G53: 83622.1 | H53: =G53/F53*100 -> 64.962656
A54: Licenses | B54: 6 | C54: 137369.76 | D54: 199274.1 | E54: =D54/C54*100 -> 145.06402 | F54: 136146 | G54: 173840.6 | H54: =G54/F54*100 -> 127.68689
A55: Fees | B55: 7 | C55: 220400 | D55: 202953.5 | E55: =D55/C55*100 -> 92.084165 | F55: 113000 | G55: 80386.75 | H55: =G55/F55*100 -> 71.138717
A56: Fines, Penalties and Forfeits | B56: 8 | C56: 44029.5 | D56: 2670 | E56: =D56/C56*100 -> 6.0641161 | F56: 113000 | G56: 80386.75 | H56: =G56/F56*100 -> 71.138717
A57: Miscellenous | B57: 9 | C57: 42081.34 | D57: 74894 | E57: =D57/C57*100 -> 177.97437 | F57: 42081.34 | G57: 33606.4 | H57: =G57/F57*100 -> 79.860575
...

Sheet Cash Flow
A2: KOMENDA-EDINA-EGUAFO-ABREM MUNICIPAL ASEMBLY
A3: STATEMENT OF CASH FLOW FOR THE YEAR ENDED, 2019
A5: CASH FLOW FROM OPERATING ACTIVITIES | B5: NOTES | C5: CURRENT | D5: PREVIOUS
C6: 2019 | D6: 2018
C7: GH¢ | D7: GH¢
A8: Cash Receipts from Operating Activities
A9: Grants - IGF | B9: 8 | C9: 6195996.2 | D9: 2874188.2
A10: Other Revenue | B10: 2,3,4,5,6,7,9 | C10: 961471.87 | D10: 872473.13
A11: Advance Recovery | C11: 0
A12: TOTAL | C12: =SUM(C9:C11) -> 7157468.1 | D12: =SUM(D9:D11) -> 3746661.4
A14: Cash Payment from Operating Activities
A15: Compensation of employees | B15: 10 | C15: ='Cum Rec & Pmt'!D21 -> 2974666.4 | D15: 143530.57
A16: Use of Goods and Services | B16: 11 | C16: ='Cum Rec & Pmt'!D22 -> 2488188.7 | D16: 2918182.8
A17: Social Benefits | B17: 12 | C17: ='Cum Rec & Pmt'!D23 -> 0 | D17: 834
A18: Other General Expenses | B18: 13 | C18: ='Cum Rec & Pmt'!D24 -> 5650 | D18: 59735
A20: TOTAL | C20: =SUM(C15:C19) -> 5468505.1 | D20: =SUM(D15:D19) -> 3122282.4
A22: Net Cash Flow from Operating Activities | C22: =C12-C20 -> 1688962.9 | D22: =D12-D20 -> 624379.02
A24: CASH FLOW FROM INVESTING ACTIVITIES
A25: Non - Financial Assets - GRANT | B25: 14 | C25: 747991.54 | D25: -635747.04
A26: Purchase/Granting of non-financial assets
A27: Non-Financial Assets
A28: W I P | B28: 15 | C28: 106555.9 | D28: -687955.34
A29: TOTAL | C29: =SUM(C25:C28) -> 854547.44 | D29: =D25+D28 -> -1323702.4
A30: Sale/Recovery of non-financial assets
A31: Non-Financial Assets | D31: 0
A32: WORK IN PROGRESS | D32: 0
A33: TOTAL
A34: NET CASH FLOW FROM INVESTING ACTIVITIES | C34: =C29+C33 -> 854547.44
A36: CASH FLOW FROM FINANCING ACTIVITY
C37: =SUM(C36) -> 0
A38: NET CHANGE IN STOCK OF CASH | C38: =C22-C34 -> 834415.48 | D38: =D22+D29 -> -699323.36
A39: Cash and cash equiv @ beginning 01/01/19 | B39: 30 | C39: 476105.56 | D39: 1175428.9 | F39: =F41-F40 -> 0
A40: Cash and cash equivalent @ close 31/12/19 | B40: 30 | C40: =C38+C39 -> 1310521 | D40: =D38+D39 -> 476105.56
A41: Movement in Cash and Cash Equivalent | C41: =C40-C39 -> 834415.48 | D41: =D40-D39 -> -699323.36 | E41: =C41-C38 -> 0
B44: Review by:
B45: ………………………………………………
B46: JOHN ATTABLAYO | C46: JONATHAN OBENG YEBOAH
B47: MUNICIPAL.FINANCE OFFICER

Sheet RECON
A2: ASENE MANSO AKROSO DISTRICT ASSEMBLY - AKIM MANSO
A3: BANK RECOCILTION STATEMENT AS AT 31ST JANUARY, 2019
A4: ACCOUNT NAME: ASENE MANSO AKROSO DIST. IGF ACC
A5: BANK ACCOUNT NUMBER: 1118089531001
D6: GH₵ | E6: GH₵
A8: Balance as per Cash Book | E8: 2731.82
A10: Add: Unpresented cheques : | B10: OOO69O
A11: Date Cheque No.
A12: 24/01/19 000140 | D12: 100
A13: 31/01/19 000144 | D13: 19.79 | E13: 119.79
E14: 2851.61
A15: Add Wrong Credit | E15: 0.8
A16: Balance as per bank statement | E16: 2852.41
A19: PREPARED BY | D19: REVIEWED BY
A24: PRINCE BRIGHT YAMOAH | D24: JONATHAN OBENG YEBOAH
A25: (ASSISTANT ACCOUNTANT) | C25: DIST.FINANCE OFFICER | D25: MUNICIPAL FINANCE OFFICER
A29: ASENE MANSO AKROSO DISTRCT ASSEMBLY - COMMON FUND
A30: BANK RECONCILIATION STATEMENT AS AT 31ST JANUARY, 2019
A31: ACCOUNT NAME: ASENE MANSO AKROSO DIST. ASSEMBLY
A32: BANK ACCOUNT NUMBER: 1118089531002
D34: GH₵ | E34: GH₵
A35: Balance as per Cash Book | E35: -12118.79
A37: Add: Unpresented Cheques
A38: Date Cheque No.
A39: 10/01/19 000176 | D39: 550
A40: 10/01/19 000177 | D40: 110 | E40: 660
E45: -11458.79
A46: Add Wrong Credit | E46: 20000
A47: Balance as per Bank Statement | E47: 8541.21
A51: PRINCE BRIGHT YAMOAH | C51: JONATHAN OBENG YEBOAH
A52: (ASSISTANT ACCOUNTANT) | C52: (MUNI. FINANCE OFFICER)
A176: ASENE MANSO AKROSO DISTRICT ASSEMBLY MPS COMMON FUND
A177: BANK RECOCILTION STATEMENT AS AT 31ST JANUARY, 2019
A178: ASENE-AKROSO-MANSO CONSTITUENCY MPS
A179: BANK ACCOUNT NUMBER 1118043417106
D180: GH₵ | E180: GH₵
A182: Balance as per Cash Book | E182: -773.46
A183: ADD UNPRESENTED CHEQUES:
A184: 18/09/2018 000359 | D184: 79.8
A185: 17/12/18 000395 | D185: 5000
...
